BEGIN:VCALENDAR
VERSION:2.0
PRODID:-//The Move Collective - ECPv6.15.11//NONSGML v1.0//EN
CALSCALE:GREGORIAN
METHOD:PUBLISH
X-ORIGINAL-URL:https://themovecollective.org
X-WR-CALDESC:Events for The Move Collective
REFRESH-INTERVAL;VALUE=DURATION:PT1H
X-Robots-Tag:noindex
X-PUBLISHED-TTL:PT1H
BEGIN:VTIMEZONE
TZID:America/Toronto
BEGIN:DAYLIGHT
TZOFFSETFROM:-0500
TZOFFSETTO:-0400
TZNAME:EDT
DTSTART:20150308T070000
END:DAYLIGHT
BEGIN:STANDARD
TZOFFSETFROM:-0400
TZOFFSETTO:-0500
TZNAME:EST
DTSTART:20151101T060000
END:STANDARD
BEGIN:DAYLIGHT
TZOFFSETFROM:-0500
TZOFFSETTO:-0400
TZNAME:EDT
DTSTART:20160313T070000
END:DAYLIGHT
BEGIN:STANDARD
TZOFFSETFROM:-0400
TZOFFSETTO:-0500
TZNAME:EST
DTSTART:20161106T060000
END:STANDARD
BEGIN:DAYLIGHT
TZOFFSETFROM:-0500
TZOFFSETTO:-0400
TZNAME:EDT
DTSTART:20170312T070000
END:DAYLIGHT
BEGIN:STANDARD
TZOFFSETFROM:-0400
TZOFFSETTO:-0500
TZNAME:EST
DTSTART:20171105T060000
END:STANDARD
END:VTIMEZONE
BEGIN:VEVENT
DTSTART;TZID=America/Toronto:20160617T192000
DTEND;TZID=America/Toronto:20160617T221500
DTSTAMP:20260424T133505
CREATED:20160601T011943Z
LAST-MODIFIED:20160601T012504Z
UID:944-1466191200-1466201700@themovecollective.org
SUMMARY:DJ Ariel & RAP Session
DESCRIPTION:Our weekly Move + RAP session \nAfter The Move\, Henry Wai will be hosting a RAP session… \nRAP Sessions (Reflect and Process) \nPurpose:\n– support the deepening of our dance practices \nHow:\n– reflect and share about our dance practices\n– learn about and be inspired by other`s dance practices\n– celebrate growth and acknowledge challenges\n– tap into our resourcefulness for addressing challenges \nWhat:\n– pairs\, trios and full group sharing facilitated by Henry Wai \nWhen:\n– 3rd Friday of every month – 9:30-10:15pm \nWho:\n– drop-in for Move dancers at no cost \nInfo: henryhwai@gmail.com
URL:https://themovecollective.org/event/dj-ariel-rap-session/
LOCATION:Dovercourt House\, 2nd Floor\, 805 Dovercourt Road\, Toronto\, Ontario\, Canada
CATEGORIES:Dance Events,RAP Session,RAP session,The Move
END:VEVENT
END:VCALENDAR