BEGIN:VCALENDAR
VERSION:2.0
PRODID:-//The Move Collective - ECPv6.15.11//NONSGML v1.0//EN
CALSCALE:GREGORIAN
METHOD:PUBLISH
X-ORIGINAL-URL:https://themovecollective.org
X-WR-CALDESC:Events for The Move Collective
REFRESH-INTERVAL;VALUE=DURATION:PT1H
X-Robots-Tag:noindex
X-PUBLISHED-TTL:PT1H
BEGIN:VTIMEZONE
TZID:America/Toronto
BEGIN:DAYLIGHT
TZOFFSETFROM:-0500
TZOFFSETTO:-0400
TZNAME:EDT
DTSTART:20160313T070000
END:DAYLIGHT
BEGIN:STANDARD
TZOFFSETFROM:-0400
TZOFFSETTO:-0500
TZNAME:EST
DTSTART:20161106T060000
END:STANDARD
BEGIN:DAYLIGHT
TZOFFSETFROM:-0500
TZOFFSETTO:-0400
TZNAME:EDT
DTSTART:20170312T070000
END:DAYLIGHT
BEGIN:STANDARD
TZOFFSETFROM:-0400
TZOFFSETTO:-0500
TZNAME:EST
DTSTART:20171105T060000
END:STANDARD
BEGIN:DAYLIGHT
TZOFFSETFROM:-0500
TZOFFSETTO:-0400
TZNAME:EDT
DTSTART:20180311T070000
END:DAYLIGHT
BEGIN:STANDARD
TZOFFSETFROM:-0400
TZOFFSETTO:-0500
TZNAME:EST
DTSTART:20181104T060000
END:STANDARD
END:VTIMEZONE
BEGIN:VEVENT
DTSTART;TZID=America/Toronto:20171020T214500
DTEND;TZID=America/Toronto:20171020T221500
DTSTAMP:20260423T144232
CREATED:20171020T181515Z
LAST-MODIFIED:20171020T181515Z
UID:1301-1508535900-1508537700@themovecollective.org
SUMMARY:RAP session after the Move on Fri Oct 20
DESCRIPTION:Meet other dancers for a\n\nRAP Session    (Reflect and Process)\n\nPurpose: \n– support the deepening of our dance practices\n\nHow:\n– reflect and share about our dance practices\n– learn about and be inspired by other`s dance practices\n– celebrate growth and acknowledge challenges\n– tap into our resourcefulness for addressing challenges\n\nWhat:\n– pairs and small group sharing facilitated by Henry Wai\n\nWhen: \n– monthly after the Move – 9:45 – 10:15pm\n\nWho: \n– drop-in for Move dancers at no cost
URL:https://themovecollective.org/event/rap-session-after-the-move-on-fri-oct-20/
LOCATION:Dovercourt House\, 2nd Floor\, 805 Dovercourt Road\, Toronto\, Ontario\, Canada
CATEGORIES:Community Events,RAP session,RAP Session,The Move
ORGANIZER;CN="Henry Wai":MAILTO:henryhwai  at  gmail.com
END:VEVENT
END:VCALENDAR