BEGIN:VCALENDAR
VERSION:2.0
PRODID:-//The Move Collective - ECPv6.15.11//NONSGML v1.0//EN
CALSCALE:GREGORIAN
METHOD:PUBLISH
X-ORIGINAL-URL:https://themovecollective.org
X-WR-CALDESC:Events for The Move Collective
REFRESH-INTERVAL;VALUE=DURATION:PT1H
X-Robots-Tag:noindex
X-PUBLISHED-TTL:PT1H
BEGIN:VTIMEZONE
TZID:America/Toronto
BEGIN:DAYLIGHT
TZOFFSETFROM:-0500
TZOFFSETTO:-0400
TZNAME:EDT
DTSTART:20180311T070000
END:DAYLIGHT
BEGIN:STANDARD
TZOFFSETFROM:-0400
TZOFFSETTO:-0500
TZNAME:EST
DTSTART:20181104T060000
END:STANDARD
BEGIN:DAYLIGHT
TZOFFSETFROM:-0500
TZOFFSETTO:-0400
TZNAME:EDT
DTSTART:20190310T070000
END:DAYLIGHT
BEGIN:STANDARD
TZOFFSETFROM:-0400
TZOFFSETTO:-0500
TZNAME:EST
DTSTART:20191103T060000
END:STANDARD
BEGIN:DAYLIGHT
TZOFFSETFROM:-0500
TZOFFSETTO:-0400
TZNAME:EDT
DTSTART:20200308T070000
END:DAYLIGHT
BEGIN:STANDARD
TZOFFSETFROM:-0400
TZOFFSETTO:-0500
TZNAME:EST
DTSTART:20201101T060000
END:STANDARD
END:VTIMEZONE
BEGIN:VEVENT
DTSTART;TZID=America/Toronto:20190816T213000
DTEND;TZID=America/Toronto:20190816T221000
DTSTAMP:20260422T032159
CREATED:20190813T185508Z
LAST-MODIFIED:20190813T185508Z
UID:1825-1565991000-1565993400@themovecollective.org
SUMMARY:Fri. Aug. 16\, 2019 - RAP (Reflect and Process) Session about Our Dance
DESCRIPTION:Purpose: \n– connect with and learn from other dancers\n– support the deepening of our dance practices\n\nHow:\n– reflect and share about our dance practices\n– learn about and be inspired by other`s dance practices\n– celebrate growth and acknowledge challenges\n– tap into our resourcefulness for addressing challenges\n\nWhat:\n– pairs and small group sharing facilitated by Henry Wai\n\nWhen: \n– after the Move – from 9:30 to about 10:10 pm\n\nWho: \n– drop-in for Move dancers at no cost\n\n\nImage: Meddy Garnet – Flickr – Creative Commons license
URL:https://themovecollective.org/event/fri-aug-16-2019-rap-reflect-and-process-session-about-our-dance/
LOCATION:Dovercourt House\, 2nd Floor\, 805 Dovercourt Road\, Toronto\, Ontario\, Canada
CATEGORIES:Community Events,RAP Session,RAP session,The Move
ORGANIZER;CN="Henry Wai":MAILTO:henryhwai  at  gmail.com
END:VEVENT
END:VCALENDAR