BEGIN:VCALENDAR
VERSION:2.0
PRODID:-//The Move Collective - ECPv6.15.11//NONSGML v1.0//EN
CALSCALE:GREGORIAN
METHOD:PUBLISH
X-ORIGINAL-URL:https://themovecollective.org
X-WR-CALDESC:Events for The Move Collective
REFRESH-INTERVAL;VALUE=DURATION:PT1H
X-Robots-Tag:noindex
X-PUBLISHED-TTL:PT1H
BEGIN:VTIMEZONE
TZID:America/Toronto
BEGIN:DAYLIGHT
TZOFFSETFROM:-0500
TZOFFSETTO:-0400
TZNAME:EDT
DTSTART:20240310T070000
END:DAYLIGHT
BEGIN:STANDARD
TZOFFSETFROM:-0400
TZOFFSETTO:-0500
TZNAME:EST
DTSTART:20241103T060000
END:STANDARD
BEGIN:DAYLIGHT
TZOFFSETFROM:-0500
TZOFFSETTO:-0400
TZNAME:EDT
DTSTART:20250309T070000
END:DAYLIGHT
BEGIN:STANDARD
TZOFFSETFROM:-0400
TZOFFSETTO:-0500
TZNAME:EST
DTSTART:20251102T060000
END:STANDARD
BEGIN:DAYLIGHT
TZOFFSETFROM:-0500
TZOFFSETTO:-0400
TZNAME:EDT
DTSTART:20260308T070000
END:DAYLIGHT
BEGIN:STANDARD
TZOFFSETFROM:-0400
TZOFFSETTO:-0500
TZNAME:EST
DTSTART:20261101T060000
END:STANDARD
END:VTIMEZONE
BEGIN:VEVENT
DTSTART;TZID=America/Toronto:20250314T193000
DTEND;TZID=America/Toronto:20250314T223000
DTSTAMP:20260420T043003
CREATED:20250311T231835Z
LAST-MODIFIED:20250311T231835Z
UID:2942-1741980600-1741991400@themovecollective.org
SUMMARY:DJ Goldiloxx
DESCRIPTION:Join DJ Goldiloxx this Friday at The Move! Dovercourt House\, 3rd floor. Stay after the dance for our monthly community potluck!
URL:https://themovecollective.org/event/dj-goldiloxx-15/
CATEGORIES:Community Potluck,Dance Events,The Move
END:VEVENT
END:VCALENDAR