BEGIN:VCALENDAR
VERSION:2.0
PRODID:-//The Move Collective - ECPv6.15.11//NONSGML v1.0//EN
CALSCALE:GREGORIAN
METHOD:PUBLISH
X-ORIGINAL-URL:https://themovecollective.org
X-WR-CALDESC:Events for The Move Collective
REFRESH-INTERVAL;VALUE=DURATION:PT1H
X-Robots-Tag:noindex
X-PUBLISHED-TTL:PT1H
BEGIN:VTIMEZONE
TZID:America/Toronto
BEGIN:DAYLIGHT
TZOFFSETFROM:-0500
TZOFFSETTO:-0400
TZNAME:EDT
DTSTART:20160313T070000
END:DAYLIGHT
BEGIN:STANDARD
TZOFFSETFROM:-0400
TZOFFSETTO:-0500
TZNAME:EST
DTSTART:20161106T060000
END:STANDARD
BEGIN:DAYLIGHT
TZOFFSETFROM:-0500
TZOFFSETTO:-0400
TZNAME:EDT
DTSTART:20170312T070000
END:DAYLIGHT
BEGIN:STANDARD
TZOFFSETFROM:-0400
TZOFFSETTO:-0500
TZNAME:EST
DTSTART:20171105T060000
END:STANDARD
BEGIN:DAYLIGHT
TZOFFSETFROM:-0500
TZOFFSETTO:-0400
TZNAME:EDT
DTSTART:20180311T070000
END:DAYLIGHT
BEGIN:STANDARD
TZOFFSETFROM:-0400
TZOFFSETTO:-0500
TZNAME:EST
DTSTART:20181104T060000
END:STANDARD
BEGIN:DAYLIGHT
TZOFFSETFROM:-0500
TZOFFSETTO:-0400
TZNAME:EDT
DTSTART:20190310T070000
END:DAYLIGHT
BEGIN:STANDARD
TZOFFSETFROM:-0400
TZOFFSETTO:-0500
TZNAME:EST
DTSTART:20191103T060000
END:STANDARD
BEGIN:DAYLIGHT
TZOFFSETFROM:-0500
TZOFFSETTO:-0400
TZNAME:EDT
DTSTART:20200308T070000
END:DAYLIGHT
BEGIN:STANDARD
TZOFFSETFROM:-0400
TZOFFSETTO:-0500
TZNAME:EST
DTSTART:20201101T060000
END:STANDARD
END:VTIMEZONE
BEGIN:VEVENT
DTSTART;TZID=America/Toronto:20191101T192000
DTEND;TZID=America/Toronto:20191101T221500
DTSTAMP:20260423T063912
CREATED:20191018T193035Z
LAST-MODIFIED:20191018T193035Z
UID:1843-1572636000-1572646500@themovecollective.org
SUMMARY:DJ Valerie and Community Potluck
DESCRIPTION:Join DJ Valerie for our weekly Move. Stick around afterwards to enjoy our community potluck from 9:30-10:15. Finger foods are preferred.
URL:https://themovecollective.org/event/dj-valerie-and-community-potluck-2/
CATEGORIES:Community Potluck,Dance Events
END:VEVENT
BEGIN:VEVENT
DTSTART;TZID=America/Toronto:20191004T192000
DTEND;TZID=America/Toronto:20191004T221500
DTSTAMP:20260423T063912
CREATED:20191002T143048Z
LAST-MODIFIED:20191002T143048Z
UID:1833-1570216800-1570227300@themovecollective.org
SUMMARY:DJ Ariel and Community Potluck
DESCRIPTION:Join DJ Ariel for our weekly Move. Stay after the dance to enjoy our community potluck from 9:30-10:15. Feel free to bring some finger foods to share with your fellow dancers.
URL:https://themovecollective.org/event/dj-ariel-and-community-potluck-2/
CATEGORIES:Community Potluck,Dance Events
END:VEVENT
BEGIN:VEVENT
DTSTART;TZID=America/Toronto:20190906T192000
DTEND;TZID=America/Toronto:20190906T221500
DTSTAMP:20260423T063912
CREATED:20190701T165842Z
LAST-MODIFIED:20190701T165917Z
UID:1801-1567797600-1567808100@themovecollective.org
SUMMARY:DJ Valerie and Community Potluck
DESCRIPTION:Join DJ Valerie for our weekly Move. Stick around afterwards to enjoy our community potluck from 9:30-10:15. Finger foods are preferred.
URL:https://themovecollective.org/event/dj-valerie-and-community-potluck/
LOCATION:Dovercourt House\, 2nd Floor\, 805 Dovercourt Road\, Toronto\, Ontario\, Canada
CATEGORIES:Community Potluck,Dance Events
END:VEVENT
BEGIN:VEVENT
DTSTART;TZID=America/Toronto:20190802T192000
DTEND;TZID=America/Toronto:20190802T221500
DTSTAMP:20260423T063912
CREATED:20190701T165331Z
LAST-MODIFIED:20190701T170303Z
UID:1791-1564773600-1564784100@themovecollective.org
SUMMARY:DJ Ariel and Community Potluck
DESCRIPTION:Join DJ Ariel for our weekly Move. Stick around afterwards to enjoy our community potluck from 9:30-10:15. Finger foods are preferred.
URL:https://themovecollective.org/event/dj-ariel-30/
LOCATION:Dovercourt House\, 2nd Floor\, 805 Dovercourt Road\, Toronto\, Ontario\, Canada
CATEGORIES:Community Potluck,Dance Events
END:VEVENT
BEGIN:VEVENT
DTSTART;TZID=America/Toronto:20190705T192000
DTEND;TZID=America/Toronto:20190705T221500
DTSTAMP:20260423T063912
CREATED:20190701T163328Z
LAST-MODIFIED:20190701T164008Z
UID:1780-1562354400-1562364900@themovecollective.org
SUMMARY:DJ Twyla and Community Potluck
DESCRIPTION:Join DJ Twyla for our weekly Move. Stick around afterwards to enjoy our community potluck from 9:30-10:15. Finger foods are preferred.
URL:https://themovecollective.org/event/dj-twyla-and-community-potluck-2/
LOCATION:Dovercourt House\, 2nd Floor\, 805 Dovercourt Road\, Toronto\, Ontario\, Canada
CATEGORIES:Community Potluck,Dance Events
END:VEVENT
BEGIN:VEVENT
DTSTART;TZID=America/Toronto:20190607T192000
DTEND;TZID=America/Toronto:20190607T221500
DTSTAMP:20260423T063912
CREATED:20190502T020034Z
LAST-MODIFIED:20190526T145146Z
UID:1736-1559935200-1559945700@themovecollective.org
SUMMARY:DJ Michael P and Community Potluck
DESCRIPTION:Join DJ Michael P for our weekly Move.  Stick around afterwards to enjoy our community potluck from 9:30-10:15.  Finger foods are preferred.
URL:https://themovecollective.org/event/dj-gazanfer-and-community-potluck/
LOCATION:Dovercourt House\, 2nd Floor\, 805 Dovercourt Road\, Toronto\, Ontario\, Canada
CATEGORIES:Community Potluck,Dance Events
END:VEVENT
BEGIN:VEVENT
DTSTART;TZID=America/Toronto:20190503T192000
DTEND;TZID=America/Toronto:20190503T221500
DTSTAMP:20260423T063912
CREATED:20190502T015428Z
LAST-MODIFIED:20190502T015428Z
UID:1726-1556911200-1556921700@themovecollective.org
SUMMARY:DJ TBD and Community Potluck
DESCRIPTION:Join us Friday for our weekly Move – mystery DJ to be determined.  Stick around afterwards to enjoy our community potluck from 9:30-10:15.  Finger foods are preferred.
URL:https://themovecollective.org/event/dj-tbd-and-community-potluck/
LOCATION:Dovercourt House\, 2nd Floor\, 805 Dovercourt Road\, Toronto\, Ontario\, Canada
CATEGORIES:Community Potluck,Dance Events
END:VEVENT
BEGIN:VEVENT
DTSTART;TZID=America/Toronto:20190405T192000
DTEND;TZID=America/Toronto:20190405T221500
DTSTAMP:20260423T063912
CREATED:20190329T203250Z
LAST-MODIFIED:20190329T203250Z
UID:1709-1554492000-1554502500@themovecollective.org
SUMMARY:DJ Ariel and Community Potluck
DESCRIPTION:Join DJ Ariel for our weekly Move.  Stick around afterwards to enjoy our community potluck from 9:30-10:15.  Finger foods are preferred.
URL:https://themovecollective.org/event/dj-ariel-and-community-potluck/
LOCATION:Dovercourt House\, 2nd Floor\, 805 Dovercourt Road\, Toronto\, Ontario\, Canada
CATEGORIES:Community Potluck,Dance Events
END:VEVENT
BEGIN:VEVENT
DTSTART;TZID=America/Toronto:20190301T192000
DTEND;TZID=America/Toronto:20190301T221500
DTSTAMP:20260423T063912
CREATED:20190123T223140Z
LAST-MODIFIED:20190123T223140Z
UID:1689-1551468000-1551478500@themovecollective.org
SUMMARY:DJ Twyla and COMMUNITY POTLUCK
DESCRIPTION:Join DJ Twyla for our weekly Move.  Stick around afterwards to enjoy our community potluck from 9:30-10:15.  Finger foods are preferred.
URL:https://themovecollective.org/event/dj-twyla-and-community-potluck/
CATEGORIES:Community Potluck,Dance Events
END:VEVENT
BEGIN:VEVENT
DTSTART;TZID=America/Toronto:20190201T072000
DTEND;TZID=America/Toronto:20190201T221500
DTSTAMP:20260423T063912
CREATED:20190109T181535Z
LAST-MODIFIED:20190109T181535Z
UID:1674-1549005600-1549059300@themovecollective.org
SUMMARY:DJ Michael P & The Community Potluck
DESCRIPTION:Join DJ Michael P for our weekly Move.  Stick around afterwards to enjoy our community potluck from 9:30-10:15.  Finger foods are preferred.
URL:https://themovecollective.org/event/dj-michael-p-the-community-potluck-4/
LOCATION:Dovercourt House\, 2nd Floor\, 805 Dovercourt Road\, Toronto\, Ontario\, Canada
CATEGORIES:Community Potluck,Dance Events,The Move
END:VEVENT
BEGIN:VEVENT
DTSTART;TZID=America/Toronto:20190104T192000
DTEND;TZID=America/Toronto:20190104T221500
DTSTAMP:20260423T063912
CREATED:20190104T214621Z
LAST-MODIFIED:20190104T214621Z
UID:1659-1546629600-1546640100@themovecollective.org
SUMMARY:DJ Michael P & The Community Potluck
DESCRIPTION:Join DJ Michael P for our weekly Move.  Stick around afterwards to enjoy our community potluck from 9:30-10:15.  Finger foods are preferred.
URL:https://themovecollective.org/event/dj-michael-p-the-community-potluck-3/
LOCATION:Dovercourt House\, 2nd Floor\, 805 Dovercourt Road\, Toronto\, Ontario\, Canada
CATEGORIES:Community Potluck,Dance Events,The Move
END:VEVENT
BEGIN:VEVENT
DTSTART;TZID=America/Toronto:20181207T192000
DTEND;TZID=America/Toronto:20181207T213000
DTSTAMP:20260423T063912
CREATED:20180929T171628Z
LAST-MODIFIED:20180929T171628Z
UID:1594-1544210400-1544218200@themovecollective.org
SUMMARY:DJ TWYLA & THE COMMUNITY POTLUCK
DESCRIPTION:Join DJ Twyla for our weekly Move.  Stick around afterwards to enjoy our community potluck from 9:30-10:15.  Finger foods are preferred.
URL:https://themovecollective.org/event/dj-twyla-the-community-potluck-3/
LOCATION:Dovercourt House\, 2nd Floor\, 805 Dovercourt Road\, Toronto\, Ontario\, Canada
CATEGORIES:Community Potluck,Dance Events
END:VEVENT
BEGIN:VEVENT
DTSTART;TZID=America/Toronto:20181102T192000
DTEND;TZID=America/Toronto:20181102T221500
DTSTAMP:20260423T063912
CREATED:20180929T170110Z
LAST-MODIFIED:20180929T170926Z
UID:1584-1541186400-1541196900@themovecollective.org
SUMMARY:DJ GAZANFER & THE COMMUNITY POTLUCK
DESCRIPTION:Join DJ Gazanfer for our weekly Move.  Stick around afterwards to enjoy our community potluck from 9:30-10:15.  Finger foods are preferred.
URL:https://themovecollective.org/event/dj-gazanfer-the-community-potluck-2/
LOCATION:Dovercourt House\, 2nd Floor\, 805 Dovercourt Road\, Toronto\, Ontario\, Canada
CATEGORIES:Community Potluck,Dance Events
END:VEVENT
BEGIN:VEVENT
DTSTART;TZID=America/Toronto:20181005T192000
DTEND;TZID=America/Toronto:20181005T221500
DTSTAMP:20260423T063912
CREATED:20180929T165502Z
LAST-MODIFIED:20180929T170648Z
UID:1576-1538767200-1538777700@themovecollective.org
SUMMARY:DJ MICHAEL P & THE COMMUNITY POTLUCK
DESCRIPTION:Join DJ Michael P for our weekly Move.  Stick around afterwards for the community potluck.  Finger foods are preferred.  9:30-10:15
URL:https://themovecollective.org/event/dj-michael-p-the-community-potluck-2/
LOCATION:Dovercourt House\, 2nd Floor\, 805 Dovercourt Road\, Toronto\, Ontario\, Canada
CATEGORIES:Community Potluck,Dance Events
END:VEVENT
BEGIN:VEVENT
DTSTART;TZID=America/Toronto:20180907T192000
DTEND;TZID=America/Toronto:20180907T213000
DTSTAMP:20260423T063912
CREATED:20180704T163929Z
LAST-MODIFIED:20180726T195157Z
UID:1498-1536348000-1536355800@themovecollective.org
SUMMARY:DJ ARIEL & THE COMMUNITY POTLUCK
DESCRIPTION:Join DJ Ariel for our weekly Move. \nStick around after for the monthly community potluck (the first Friday of each month) and bring some snacks to share with our vibrant community.  9:30 to 10:15pm
URL:https://themovecollective.org/event/dj-ariel-21/
LOCATION:Dovercourt House\, 2nd Floor\, 805 Dovercourt Road\, Toronto\, Ontario\, Canada
CATEGORIES:Community Potluck,Dance Events
END:VEVENT
BEGIN:VEVENT
DTSTART;TZID=America/Toronto:20180803T192000
DTEND;TZID=America/Toronto:20180803T213000
DTSTAMP:20260423T063912
CREATED:20180704T162904Z
LAST-MODIFIED:20180726T195150Z
UID:1487-1533324000-1533331800@themovecollective.org
SUMMARY:DJ TWYLA & THE COMMUNITY POTLUCK
DESCRIPTION:Join DJ Twyla for our weekly Move. \nStick around after for the monthly community potluck (the first Friday of each month) and bring some snacks to share with our vibrant community.  9:30 to 10:15pm
URL:https://themovecollective.org/event/dj-twyla-9/
LOCATION:Dovercourt House\, 2nd Floor\, 805 Dovercourt Road\, Toronto\, Ontario\, Canada
CATEGORIES:Community Potluck,Dance Events
END:VEVENT
BEGIN:VEVENT
DTSTART;TZID=America/Toronto:20180713T192000
DTEND;TZID=America/Toronto:20180713T221500
DTSTAMP:20260423T063912
CREATED:20180704T162544Z
LAST-MODIFIED:20180704T162544Z
UID:1481-1531509600-1531520100@themovecollective.org
SUMMARY:DJ GREGORY AND THE COMMUNITY POTLUCK
DESCRIPTION:Join DJ Gregory for our weekly Move.  Stick around afterwards to share some finger foods with your fellow dancers during the community potluck.  9:30-10:15pm
URL:https://themovecollective.org/event/dj-gregory-and-the-community-potluck-2/
LOCATION:Dovercourt House\, 2nd Floor\, 805 Dovercourt Road\, Toronto\, Ontario\, Canada
CATEGORIES:Community Potluck,Dance Events
END:VEVENT
BEGIN:VEVENT
DTSTART;TZID=America/Toronto:20180608T192000
DTEND;TZID=America/Toronto:20180608T221500
DTSTAMP:20260423T063912
CREATED:20180408T173419Z
LAST-MODIFIED:20180408T173419Z
UID:1432-1528485600-1528496100@themovecollective.org
SUMMARY:DJ MICHAEL P & THE COMMUNITY POTLUCK
DESCRIPTION:Join DJ Michael P for our weekly Move. \nStick around after for our monthly potluck.  Feel free to bring finger foods to share with your fellow dancers.  (9:30-10:15)
URL:https://themovecollective.org/event/dj-michael-p-the-community-potluck/
LOCATION:Dovercourt House\, 2nd Floor\, 805 Dovercourt Road\, Toronto\, Ontario\, Canada
CATEGORIES:Community Potluck,Dance Events
END:VEVENT
BEGIN:VEVENT
DTSTART;TZID=America/Toronto:20180511T192000
DTEND;TZID=America/Toronto:20180511T221500
DTSTAMP:20260423T063912
CREATED:20180405T182445Z
LAST-MODIFIED:20180405T182445Z
UID:1424-1526066400-1526076900@themovecollective.org
SUMMARY:DJ GREGORY & THE COMMUNITY POTLUCK
DESCRIPTION:Join DJ Gregory for our weekly Move. \nStick around after to enjoy our community potluck.  Feel free to bring some finger foods to share with your fellow dancers. \n9:30-10:15
URL:https://themovecollective.org/event/dj-gregory-the-community-potluck-3/
LOCATION:Dovercourt House\, 2nd Floor\, 805 Dovercourt Road\, Toronto\, Ontario\, Canada
CATEGORIES:Community Potluck,Dance Events
END:VEVENT
BEGIN:VEVENT
DTSTART;TZID=America/Toronto:20180413T192000
DTEND;TZID=America/Toronto:20180413T221500
DTSTAMP:20260423T063912
CREATED:20180306T125437Z
LAST-MODIFIED:20180408T204051Z
UID:1415-1523647200-1523657700@themovecollective.org
SUMMARY:THE MOVE'S BIRTHDAY CELEBRATION - DJ ARIEL AND DJ MICHAEL P
DESCRIPTION:It’s the Move’s 15 year birthday celebration!  We are offering free admission to all dancers until we reach capacity and there will be cake. Please come celebrate this vibrant community with us!
URL:https://themovecollective.org/event/the-moves-birthday-celebration-dj-to-be-announced/
LOCATION:Dovercourt House\, 2nd Floor\, 805 Dovercourt Road\, Toronto\, Ontario\, Canada
CATEGORIES:Community Events,Community Potluck,Dance Events
END:VEVENT
BEGIN:VEVENT
DTSTART;TZID=America/Toronto:20180309T192000
DTEND;TZID=America/Toronto:20180309T221500
DTSTAMP:20260423T063912
CREATED:20180101T194431Z
LAST-MODIFIED:20180101T194431Z
UID:1328-1520623200-1520633700@themovecollective.org
SUMMARY:DJ GAZANFER & THE COMMUNITY POTLUCK
DESCRIPTION:Join DJ Gazanferfor our weekly Move. \nStick around after for the monthly community potluck and share some snacks with our vibrant community.  9:30 to 10:15pm
URL:https://themovecollective.org/event/dj-gazanfer-the-community-potluck/
LOCATION:Dovercourt House\, 2nd Floor\, 805 Dovercourt Road\, Toronto\, Ontario\, Canada
CATEGORIES:Community Potluck,Dance Events
END:VEVENT
BEGIN:VEVENT
DTSTART;TZID=America/Toronto:20180209T192000
DTEND;TZID=America/Toronto:20180209T221500
DTSTAMP:20260423T063912
CREATED:20180101T193800Z
LAST-MODIFIED:20180101T193800Z
UID:1320-1518204000-1518214500@themovecollective.org
SUMMARY:DJ F-ERENC & THE COMMUNITY POTLUCK
DESCRIPTION:Join DJ F-erenc for our weekly Move. \nStick around after for the monthly community potluck and share some snacks with our vibrant community.  9:30 to 10:15pm
URL:https://themovecollective.org/event/dj-f-erenc-the-community-potluck-2/
LOCATION:Dovercourt House\, 2nd Floor\, 805 Dovercourt Road\, Toronto\, Ontario\, Canada
CATEGORIES:Community Potluck,Dance Events
END:VEVENT
BEGIN:VEVENT
DTSTART;TZID=America/Toronto:20180112T192000
DTEND;TZID=America/Toronto:20180112T221500
DTSTAMP:20260423T063912
CREATED:20180101T193022Z
LAST-MODIFIED:20180101T193048Z
UID:1312-1515784800-1515795300@themovecollective.org
SUMMARY:DJ TWYLA & THE COMMUNITY POTLUCK
DESCRIPTION:Join DJ Twyla for our weekly Move. \nStick around after for the monthly community potluck and share some snacks with our vibrant community.  9:30 to 10:15pm
URL:https://themovecollective.org/event/dj-twyla-the-community-potluck-2/
LOCATION:Dovercourt House\, 2nd Floor\, 805 Dovercourt Road\, Toronto\, Ontario\, Canada
CATEGORIES:Community Potluck,Dance Events
END:VEVENT
BEGIN:VEVENT
DTSTART;TZID=America/Toronto:20171208T192000
DTEND;TZID=America/Toronto:20171208T221500
DTSTAMP:20260423T063912
CREATED:20170927T033322Z
LAST-MODIFIED:20170927T033322Z
UID:1290-1512760800-1512771300@themovecollective.org
SUMMARY:DJ GREGORY AND THE COMMUNITY POTLUCK
DESCRIPTION:Join DJ Gregory for our weekly Move. \nStick around after for the monthly community potluck and share some snacks with our vibrant community.  9:30 to 10:15pm
URL:https://themovecollective.org/event/dj-gregory-and-the-community-potluck/
LOCATION:Dovercourt House\, 2nd Floor\, 805 Dovercourt Road\, Toronto\, Ontario\, Canada
CATEGORIES:Community Potluck,Dance Events
END:VEVENT
BEGIN:VEVENT
DTSTART;TZID=America/Toronto:20171110T192000
DTEND;TZID=America/Toronto:20171110T221500
DTSTAMP:20260423T063912
CREATED:20170927T032654Z
LAST-MODIFIED:20170927T033407Z
UID:1282-1510341600-1510352100@themovecollective.org
SUMMARY:DJ ARIEL & THE COMMUNITY POTLUCK
DESCRIPTION:Join DJ Ariel for our weekly Move. \nStick around after for the monthly community potluck and share some snacks with our vibrant community.  9:30 to 10:15pm
URL:https://themovecollective.org/event/dj-ariel-17/
LOCATION:Dovercourt House\, 2nd Floor\, 805 Dovercourt Road\, Toronto\, Ontario\, Canada
CATEGORIES:Community Potluck,Dance Events
END:VEVENT
BEGIN:VEVENT
DTSTART;TZID=America/Toronto:20171013T192000
DTEND;TZID=America/Toronto:20171013T221500
DTSTAMP:20260423T063912
CREATED:20170927T031532Z
LAST-MODIFIED:20170927T033436Z
UID:1273-1507922400-1507932900@themovecollective.org
SUMMARY:DJ Gregory & The Community Potluck
DESCRIPTION:Join DJ Gregory for our weekly Move. \nStick around after for the monthly community potluck and share some snacks with our vibrant community.  9:30 to 10:15pm
URL:https://themovecollective.org/event/dj-gregory-the-community-potluck-2/
LOCATION:Dovercourt House\, 2nd Floor\, 805 Dovercourt Road\, Toronto\, Ontario\, Canada
CATEGORIES:Community Potluck,Dance Events
END:VEVENT
BEGIN:VEVENT
DTSTART;TZID=America/Toronto:20170908T192000
DTEND;TZID=America/Toronto:20170908T221500
DTSTAMP:20260423T063912
CREATED:20170628T000428Z
LAST-MODIFIED:20170628T000428Z
UID:1241-1504898400-1504908900@themovecollective.org
SUMMARY:DJ MICHAEL H & THE COMMUNITY POTLUCK
DESCRIPTION:Join DJ Michael H for our weekly Move. \nStick around after for the monthly community potluck and share some snacks with our vibrant community.  9:30 to 10:15pm
URL:https://themovecollective.org/event/dj-michael-h-the-community-potluck/
LOCATION:Dovercourt House\, 2nd Floor\, 805 Dovercourt Road\, Toronto\, Ontario\, Canada
CATEGORIES:Community Potluck,Dance Events
END:VEVENT
BEGIN:VEVENT
DTSTART;TZID=America/Toronto:20170811T192000
DTEND;TZID=America/Toronto:20170811T221500
DTSTAMP:20260423T063912
CREATED:20170627T235737Z
LAST-MODIFIED:20170627T235738Z
UID:1233-1502479200-1502489700@themovecollective.org
SUMMARY:DJ ARIEL & THE COMMUNITY POTLUCK
DESCRIPTION:Join DJ Ariel for the weekly Move. \nStick around after for the monthly community potluck and share some snacks with our vibrant community.  9:30 to 10:15pm
URL:https://themovecollective.org/event/dj-ariel-the-community-potluck-2/
LOCATION:Dovercourt House\, 2nd Floor\, 805 Dovercourt Road\, Toronto\, Ontario\, Canada
CATEGORIES:Community Potluck,Dance Events
END:VEVENT
BEGIN:VEVENT
DTSTART;TZID=America/Toronto:20170714T192000
DTEND;TZID=America/Toronto:20170714T221500
DTSTAMP:20260423T063912
CREATED:20170627T234910Z
LAST-MODIFIED:20170627T234910Z
UID:1225-1500060000-1500070500@themovecollective.org
SUMMARY:DJ TWYLA & THE COMMUNITY POTLUCK
DESCRIPTION:Join DJ Twyla for out weekly Move. \nStick around after for the community potluck and share some snacks with our vibrant community.  9:30 to 10:15pm
URL:https://themovecollective.org/event/dj-twyla-the-community-potluck/
LOCATION:Dovercourt House\, 2nd Floor\, 805 Dovercourt Road\, Toronto\, Ontario\, Canada
CATEGORIES:Community Potluck,Dance Events
END:VEVENT
BEGIN:VEVENT
DTSTART;TZID=America/Toronto:20170609T192000
DTEND;TZID=America/Toronto:20170609T221500
DTSTAMP:20260423T063912
CREATED:20170329T225040Z
LAST-MODIFIED:20170329T225040Z
UID:1207-1497036000-1497046500@themovecollective.org
SUMMARY:DJ Gregory & The Community Potluck
DESCRIPTION:Join DJ Gregory for our weekly Move. \nStick around after for the community potluck and share some snacks with our vibrant community.  9:30 to 10:15pm
URL:https://themovecollective.org/event/dj-gregory-the-community-potluck/
LOCATION:Dovercourt House\, 2nd Floor\, 805 Dovercourt Road\, Toronto\, Ontario\, Canada
CATEGORIES:Community Potluck,Dance Events
END:VEVENT
END:VCALENDAR