BEGIN:VCALENDAR
VERSION:2.0
PRODID:-//The Move Collective - ECPv6.15.11//NONSGML v1.0//EN
CALSCALE:GREGORIAN
METHOD:PUBLISH
X-ORIGINAL-URL:https://themovecollective.org
X-WR-CALDESC:Events for The Move Collective
REFRESH-INTERVAL;VALUE=DURATION:PT1H
X-Robots-Tag:noindex
X-PUBLISHED-TTL:PT1H
BEGIN:VTIMEZONE
TZID:America/Toronto
BEGIN:DAYLIGHT
TZOFFSETFROM:-0500
TZOFFSETTO:-0400
TZNAME:EDT
DTSTART:20150308T070000
END:DAYLIGHT
BEGIN:STANDARD
TZOFFSETFROM:-0400
TZOFFSETTO:-0500
TZNAME:EST
DTSTART:20151101T060000
END:STANDARD
BEGIN:DAYLIGHT
TZOFFSETFROM:-0500
TZOFFSETTO:-0400
TZNAME:EDT
DTSTART:20160313T070000
END:DAYLIGHT
BEGIN:STANDARD
TZOFFSETFROM:-0400
TZOFFSETTO:-0500
TZNAME:EST
DTSTART:20161106T060000
END:STANDARD
BEGIN:DAYLIGHT
TZOFFSETFROM:-0500
TZOFFSETTO:-0400
TZNAME:EDT
DTSTART:20170312T070000
END:DAYLIGHT
BEGIN:STANDARD
TZOFFSETFROM:-0400
TZOFFSETTO:-0500
TZNAME:EST
DTSTART:20171105T060000
END:STANDARD
BEGIN:DAYLIGHT
TZOFFSETFROM:-0500
TZOFFSETTO:-0400
TZNAME:EDT
DTSTART:20180311T070000
END:DAYLIGHT
BEGIN:STANDARD
TZOFFSETFROM:-0400
TZOFFSETTO:-0500
TZNAME:EST
DTSTART:20181104T060000
END:STANDARD
END:VTIMEZONE
BEGIN:VEVENT
DTSTART;TZID=America/Toronto:20170512T192000
DTEND;TZID=America/Toronto:20170512T221500
DTSTAMP:20260423T112223
CREATED:20170329T223855Z
LAST-MODIFIED:20170329T223855Z
UID:1199-1494616800-1494627300@themovecollective.org
SUMMARY:DJ F-erenc & The Community Potluck
DESCRIPTION:Join DJ F-erenc for our weekly Move. \nStick around after for the community potluck and share some snacks with our vibrant community  9:30-10:15pm
URL:https://themovecollective.org/event/dj-f-erenc-the-community-potluck/
LOCATION:Dovercourt House\, 2nd Floor\, 805 Dovercourt Road\, Toronto\, Ontario\, Canada
CATEGORIES:Community Potluck,Dance Events
END:VEVENT
BEGIN:VEVENT
DTSTART;TZID=America/Toronto:20170414T192000
DTEND;TZID=America/Toronto:20170414T221500
DTSTAMP:20260423T112223
CREATED:20170329T222845Z
LAST-MODIFIED:20170329T222845Z
UID:1189-1492197600-1492208100@themovecollective.org
SUMMARY:DJ Ariel & The Community Potluck
DESCRIPTION:Join DJ Ariel for our weekly Move. \nStick around after for the community potluck and share some snacks with our vibrant community 9:30 to 10:15.
URL:https://themovecollective.org/event/dj-ariel-the-community-potluck/
LOCATION:Dovercourt House\, 2nd Floor\, 805 Dovercourt Road\, Toronto\, Ontario\, Canada
CATEGORIES:Community Potluck,Dance Events
END:VEVENT
BEGIN:VEVENT
DTSTART;TZID=America/Toronto:20170310T192000
DTEND;TZID=America/Toronto:20170310T221500
DTSTAMP:20260423T112223
CREATED:20170107T224606Z
LAST-MODIFIED:20170107T224606Z
UID:1152-1489173600-1489184100@themovecollective.org
SUMMARY:DJ VALERIE & COMMUNITY POTLUCK
DESCRIPTION:Join DJ VALERIE for our weekly Move. \nStick around after for the community potluck and share some snacks with our vibrant community. \n9:30-10:15pm
URL:https://themovecollective.org/event/dj-valerie-community-potluck-2/
LOCATION:Dovercourt House\, 2nd Floor\, 805 Dovercourt Road\, Toronto\, Ontario\, Canada
CATEGORIES:Community Potluck,Dance Events
END:VEVENT
BEGIN:VEVENT
DTSTART;TZID=America/Toronto:20170210T192000
DTEND;TZID=America/Toronto:20170210T221500
DTSTAMP:20260423T112223
CREATED:20170107T223844Z
LAST-MODIFIED:20170107T223844Z
UID:1143-1486754400-1486764900@themovecollective.org
SUMMARY:DJ MICHAEL H & COMMUNITY POTLUCK
DESCRIPTION:Join DJ MICHAEL H for our weekly Move. \nStick around after for the community potluck and share some snacks with our vibrant community. \n9:30-10:15pm
URL:https://themovecollective.org/event/dj-michael-h-community-potluck/
LOCATION:Dovercourt House\, 2nd Floor\, 805 Dovercourt Road\, Toronto\, Ontario\, Canada
CATEGORIES:Community Potluck,Dance Events
END:VEVENT
BEGIN:VEVENT
DTSTART;TZID=America/Toronto:20170113T192000
DTEND;TZID=America/Toronto:20170113T221500
DTSTAMP:20260423T112223
CREATED:20161230T230717Z
LAST-MODIFIED:20170107T213856Z
UID:1132-1484335200-1484345700@themovecollective.org
SUMMARY:DJ ARIEL & COMMUNITY POTLUCK
DESCRIPTION:Join DJ ARIEL for our weekly Move. \nStick around after for the community potluck and share some snacks with our vibrant community. \n9:30-10:15pm \n 
URL:https://themovecollective.org/event/dj-ariel-community-potluck-2/
LOCATION:Dovercourt House\, 2nd Floor\, 805 Dovercourt Road\, Toronto\, Ontario\, Canada
CATEGORIES:Community Potluck,Dance Events
END:VEVENT
BEGIN:VEVENT
DTSTART;TZID=America/Toronto:20161209T192000
DTEND;TZID=America/Toronto:20161209T221500
DTSTAMP:20260423T112223
CREATED:20160921T203344Z
LAST-MODIFIED:20160921T203344Z
UID:1110-1481311200-1481321700@themovecollective.org
SUMMARY:DJ Gazanfer & Community Potluck
DESCRIPTION:Join DJ Gazanfer for his Move debut. \nStick around after for the community potluck and share some snacks with our vibrant community. \n9:30-10:15pm
URL:https://themovecollective.org/event/dj-gazanfer-community-potluck/
LOCATION:Dovercourt House\, 2nd Floor\, 805 Dovercourt Road\, Toronto\, Ontario\, Canada
CATEGORIES:Community Potluck,Dance Events
END:VEVENT
BEGIN:VEVENT
DTSTART;TZID=America/Toronto:20161111T192000
DTEND;TZID=America/Toronto:20161111T221500
DTSTAMP:20260423T112223
CREATED:20160920T223154Z
LAST-MODIFIED:20160921T202049Z
UID:1095-1478892000-1478902500@themovecollective.org
SUMMARY:DJ Ariel & Community Potluck
DESCRIPTION:Join DJ Ariel for our weekly Move. \nStick around for the community potluck and share some snacks with our vibrant community. \n9:30-10:15 pm
URL:https://themovecollective.org/event/dj-ariel-community-potluck/
LOCATION:Dovercourt House\, 2nd Floor\, 805 Dovercourt Road\, Toronto\, Ontario\, Canada
CATEGORIES:Community Potluck,Dance Events
END:VEVENT
BEGIN:VEVENT
DTSTART;TZID=America/Toronto:20161014T192000
DTEND;TZID=America/Toronto:20161014T221500
DTSTAMP:20260423T112223
CREATED:20160920T221351Z
LAST-MODIFIED:20160920T221828Z
UID:1082-1476472800-1476483300@themovecollective.org
SUMMARY:DJ Michael P & Community Potluck
DESCRIPTION:Join DJ Michael P for our weekly Move. \nStick around and share some snacks with our vibrant community. \n9:30-10:15pm
URL:https://themovecollective.org/event/dj-michael-p-community-potluck/
LOCATION:Dovercourt House\, 2nd Floor\, 805 Dovercourt Road\, Toronto\, Ontario\, Canada
CATEGORIES:Community Potluck,Dance Events
END:VEVENT
BEGIN:VEVENT
DTSTART;TZID=America/Toronto:20160909T192000
DTEND;TZID=America/Toronto:20160909T221500
DTSTAMP:20260423T112223
CREATED:20160628T233731Z
LAST-MODIFIED:20160630T195737Z
UID:976-1473448800-1473459300@themovecollective.org
SUMMARY:DJ Julia Ray & Community Potluck
DESCRIPTION:Join DJ Julia Ray for our weekly Move. \nStick around and share some snacks with our vibrant community.\n9:30-10:15pm
URL:https://themovecollective.org/event/dj-julia-ray-community-potluck-2/
LOCATION:Dovercourt House\, 2nd Floor\, 805 Dovercourt Road\, Toronto\, Ontario\, Canada
CATEGORIES:Community Potluck,Dance Events
END:VEVENT
BEGIN:VEVENT
DTSTART;TZID=America/Toronto:20160812T192000
DTEND;TZID=America/Toronto:20160812T221500
DTSTAMP:20260423T112223
CREATED:20160628T233329Z
LAST-MODIFIED:20160630T201529Z
UID:968-1471029600-1471040100@themovecollective.org
SUMMARY:DJ Valerie & Community Potluck
DESCRIPTION:Join DJ Valerie for our weekly Move.  \nStick around afterwards to share some snacks with our vibrant community.\n9:30-10:15pm
URL:https://themovecollective.org/event/dj-valerie-community-potluck/
LOCATION:Dovercourt House\, 2nd Floor\, 805 Dovercourt Road\, Toronto\, Ontario\, Canada
CATEGORIES:Community Potluck,Dance Events
END:VEVENT
BEGIN:VEVENT
DTSTART;TZID=America/Toronto:20160708T192000
DTEND;TZID=America/Toronto:20160708T213000
DTSTAMP:20260423T112223
CREATED:20160628T232758Z
LAST-MODIFIED:20180625T153419Z
UID:960-1468005600-1468013400@themovecollective.org
SUMMARY:DJ Twyla & Community Potluck
DESCRIPTION:Join DJ Twyla for our weekly Move. \nStick around after The Move to share some snacks with our vibrant community.\n9:30-10:15pm\nFinger foods preferred. \nYum!
URL:https://themovecollective.org/event/dj-twyla-community-potluck/
LOCATION:Dovercourt House\, 2nd Floor\, 805 Dovercourt Road\, Toronto\, Ontario\, Canada
CATEGORIES:Community Potluck,Dance Events,The Move
END:VEVENT
BEGIN:VEVENT
DTSTART;TZID=America/Toronto:20160610T192000
DTEND;TZID=America/Toronto:20160610T221500
DTSTAMP:20260423T112223
CREATED:20160601T011540Z
LAST-MODIFIED:20160601T011540Z
UID:941-1465586400-1465596900@themovecollective.org
SUMMARY:DJ Julia Ray & Community Potluck
DESCRIPTION:Our weekly Move + Community Potluck! \nStick around after The Move to share some snack in community. 9:30-10:15pm\nFinger foods preferred.  \nYum!
URL:https://themovecollective.org/event/dj-julia-ray-community-potluck/
LOCATION:Dovercourt House\, 2nd Floor\, 805 Dovercourt Road\, Toronto\, Ontario\, Canada
CATEGORIES:Community Potluck,Dance Events,The Move
END:VEVENT
BEGIN:VEVENT
DTSTART;TZID=America/Toronto:20160513T192000
DTEND;TZID=America/Toronto:20160513T221500
DTSTAMP:20260423T112223
CREATED:20160406T152906Z
LAST-MODIFIED:20160512T151156Z
UID:753-1463167200-1463177700@themovecollective.org
SUMMARY:DJ Robbie Sea\, Community Potluck & Community Circle
DESCRIPTION:Dance with Forgiveness this Friday with DJ Robbie Sea.  \nOur weekly Move + monthly Community Potluck (9:30-10:15pm) \nCommunity Circle: \nDid you know that it’s always been a core part of The Move’s mission to be run collectively\, by and for community?  \nDid you know that we have always struggled with sustainability and organizer burn-out?  \nWe’re at a crossroads. We have some exciting ideas about how to be more sustainable\, that will require more dancers stepping into roles of leadership at The Move.  \nFollowing up on our community conversation a few weeks ago\, we are holding two post-Move Community Circles to share more information. \nMay 13th & May 27th\n9:30 – 10:15pm \nWe hope you will join us!
URL:https://themovecollective.org/event/dj-robbie-sea-community-potluck/
LOCATION:Dovercourt House\, 2nd Floor\, 805 Dovercourt Road\, Toronto\, Ontario\, Canada
CATEGORIES:Community Potluck,The Move
ATTACH;FMTTYPE=image/jpeg:https://themovecollective.org/tmc/wp-content/uploads/compassionate-700x500.jpg
END:VEVENT
END:VCALENDAR