BEGIN:VCALENDAR
VERSION:2.0
PRODID:-//The Move Collective - ECPv6.15.11//NONSGML v1.0//EN
CALSCALE:GREGORIAN
METHOD:PUBLISH
X-ORIGINAL-URL:https://themovecollective.org
X-WR-CALDESC:Events for The Move Collective
REFRESH-INTERVAL;VALUE=DURATION:PT1H
X-Robots-Tag:noindex
X-PUBLISHED-TTL:PT1H
BEGIN:VTIMEZONE
TZID:America/Toronto
BEGIN:DAYLIGHT
TZOFFSETFROM:-0500
TZOFFSETTO:-0400
TZNAME:EDT
DTSTART:20180311T070000
END:DAYLIGHT
BEGIN:STANDARD
TZOFFSETFROM:-0400
TZOFFSETTO:-0500
TZNAME:EST
DTSTART:20181104T060000
END:STANDARD
BEGIN:DAYLIGHT
TZOFFSETFROM:-0500
TZOFFSETTO:-0400
TZNAME:EDT
DTSTART:20190310T070000
END:DAYLIGHT
BEGIN:STANDARD
TZOFFSETFROM:-0400
TZOFFSETTO:-0500
TZNAME:EST
DTSTART:20191103T060000
END:STANDARD
BEGIN:DAYLIGHT
TZOFFSETFROM:-0500
TZOFFSETTO:-0400
TZNAME:EDT
DTSTART:20200308T070000
END:DAYLIGHT
BEGIN:STANDARD
TZOFFSETFROM:-0400
TZOFFSETTO:-0500
TZNAME:EST
DTSTART:20201101T060000
END:STANDARD
END:VTIMEZONE
BEGIN:VEVENT
DTSTART;TZID=America/Toronto:20190802T192000
DTEND;TZID=America/Toronto:20190802T221500
DTSTAMP:20260425T150208
CREATED:20190701T165331Z
LAST-MODIFIED:20190701T170303Z
UID:1791-1564773600-1564784100@themovecollective.org
SUMMARY:DJ Ariel and Community Potluck
DESCRIPTION:Join DJ Ariel for our weekly Move. Stick around afterwards to enjoy our community potluck from 9:30-10:15. Finger foods are preferred.
URL:https://themovecollective.org/event/dj-ariel-30/
LOCATION:Dovercourt House\, 2nd Floor\, 805 Dovercourt Road\, Toronto\, Ontario\, Canada
CATEGORIES:Community Potluck,Dance Events
END:VEVENT
BEGIN:VEVENT
DTSTART;TZID=America/Toronto:20190809T192000
DTEND;TZID=America/Toronto:20190809T212000
DTSTAMP:20260425T150208
CREATED:20190701T165441Z
LAST-MODIFIED:20190726T221703Z
UID:1793-1565378400-1565385600@themovecollective.org
SUMMARY:DJ Ferenc
DESCRIPTION:Join DJ Ferenc for our weekly Move.
URL:https://themovecollective.org/event/dj-ferenc-7/
LOCATION:Dovercourt House\, 2nd Floor\, 805 Dovercourt Road\, Toronto\, Ontario\, Canada
CATEGORIES:Dance Events
END:VEVENT
BEGIN:VEVENT
DTSTART;TZID=America/Toronto:20190816T192000
DTEND;TZID=America/Toronto:20190816T212000
DTSTAMP:20260425T150208
CREATED:20190701T165534Z
LAST-MODIFIED:20190726T221656Z
UID:1795-1565983200-1565990400@themovecollective.org
SUMMARY:DJ Ariel
DESCRIPTION:Join DJ Ariel for our weekly Move.
URL:https://themovecollective.org/event/dj-ariel-31/
LOCATION:Dovercourt House\, 2nd Floor\, 805 Dovercourt Road\, Toronto\, Ontario\, Canada
CATEGORIES:Dance Events
END:VEVENT
BEGIN:VEVENT
DTSTART;TZID=America/Toronto:20190823T192000
DTEND;TZID=America/Toronto:20190823T212000
DTSTAMP:20260425T150208
CREATED:20190701T165635Z
LAST-MODIFIED:20190726T221646Z
UID:1797-1566588000-1566595200@themovecollective.org
SUMMARY:DJ Valerie
DESCRIPTION:Join DJ Valerie for our weekly Move.
URL:https://themovecollective.org/event/dj-valerie-19/
LOCATION:Dovercourt House\, 2nd Floor\, 805 Dovercourt Road\, Toronto\, Ontario\, Canada
CATEGORIES:Dance Events
END:VEVENT
BEGIN:VEVENT
DTSTART;TZID=America/Toronto:20190830T192000
DTEND;TZID=America/Toronto:20190830T212000
DTSTAMP:20260425T150208
CREATED:20190701T165731Z
LAST-MODIFIED:20190726T221636Z
UID:1799-1567192800-1567200000@themovecollective.org
SUMMARY:DJ Twyla
DESCRIPTION:Join DJ Twyla for our weekly Move.
URL:https://themovecollective.org/event/dj-twyla-13/
LOCATION:Dovercourt House\, 2nd Floor\, 805 Dovercourt Road\, Toronto\, Ontario\, Canada
CATEGORIES:Dance Events
END:VEVENT
END:VCALENDAR