BEGIN:VCALENDAR
VERSION:2.0
PRODID:-//The Move Collective - ECPv6.15.11//NONSGML v1.0//EN
CALSCALE:GREGORIAN
METHOD:PUBLISH
X-WR-CALNAME:The Move Collective
X-ORIGINAL-URL:https://themovecollective.org
X-WR-CALDESC:Events for The Move Collective
REFRESH-INTERVAL;VALUE=DURATION:PT1H
X-Robots-Tag:noindex
X-PUBLISHED-TTL:PT1H
BEGIN:VTIMEZONE
TZID:America/Toronto
BEGIN:DAYLIGHT
TZOFFSETFROM:-0500
TZOFFSETTO:-0400
TZNAME:EDT
DTSTART:20220313T070000
END:DAYLIGHT
BEGIN:STANDARD
TZOFFSETFROM:-0400
TZOFFSETTO:-0500
TZNAME:EST
DTSTART:20221106T060000
END:STANDARD
BEGIN:DAYLIGHT
TZOFFSETFROM:-0500
TZOFFSETTO:-0400
TZNAME:EDT
DTSTART:20230312T070000
END:DAYLIGHT
BEGIN:STANDARD
TZOFFSETFROM:-0400
TZOFFSETTO:-0500
TZNAME:EST
DTSTART:20231105T060000
END:STANDARD
BEGIN:DAYLIGHT
TZOFFSETFROM:-0500
TZOFFSETTO:-0400
TZNAME:EDT
DTSTART:20240310T070000
END:DAYLIGHT
BEGIN:STANDARD
TZOFFSETFROM:-0400
TZOFFSETTO:-0500
TZNAME:EST
DTSTART:20241103T060000
END:STANDARD
END:VTIMEZONE
BEGIN:VEVENT
DTSTART;TZID=America/Toronto:20230804T193000
DTEND;TZID=America/Toronto:20230804T220000
DTSTAMP:20260421T184650
CREATED:20230719T232607Z
LAST-MODIFIED:20230719T232607Z
UID:2495-1691177400-1691186400@themovecollective.org
SUMMARY:DJ Ferenc
DESCRIPTION:Join DJ Ferenc this week at The Move! Dovercourt House\, 3rd floor.
URL:https://themovecollective.org/event/dj-ferenc-24/
CATEGORIES:Dance Events,The Move
END:VEVENT
BEGIN:VEVENT
DTSTART;TZID=America/Toronto:20230807T193000
DTEND;TZID=America/Toronto:20230807T213000
DTSTAMP:20260421T184650
CREATED:20230726T020407Z
LAST-MODIFIED:20230726T020407Z
UID:2499-1691436600-1691443800@themovecollective.org
SUMMARY:DJ Ferenc
DESCRIPTION:Join DJ Ferenc this week at The Monday Move! Dovercourt House\, 3rd floor.
URL:https://themovecollective.org/event/dj-ferenc-25/
CATEGORIES:Dance Events,The Move
END:VEVENT
BEGIN:VEVENT
DTSTART;TZID=America/Toronto:20230811T193000
DTEND;TZID=America/Toronto:20230811T213000
DTSTAMP:20260421T184650
CREATED:20230726T020531Z
LAST-MODIFIED:20230726T020531Z
UID:2501-1691782200-1691789400@themovecollective.org
SUMMARY:DJ Michael P
DESCRIPTION:Join DJ Michael P this week at The Move! Dovercourt House\, 3rd floor.
URL:https://themovecollective.org/event/dj-michael-p-31/
CATEGORIES:Dance Events,The Move
END:VEVENT
BEGIN:VEVENT
DTSTART;TZID=America/Toronto:20230814T193000
DTEND;TZID=America/Toronto:20230814T213000
DTSTAMP:20260421T184650
CREATED:20230726T020712Z
LAST-MODIFIED:20230726T020712Z
UID:2503-1692041400-1692048600@themovecollective.org
SUMMARY:DJ Patsy
DESCRIPTION:Join DJ Patsy this week at The Monday Move! Dovercourt House\, 3rd floor.
URL:https://themovecollective.org/event/dj-patsy-2/
CATEGORIES:Dance Events,The Move
END:VEVENT
BEGIN:VEVENT
DTSTART;TZID=America/Toronto:20230818T193000
DTEND;TZID=America/Toronto:20230818T213000
DTSTAMP:20260421T184650
CREATED:20230726T020928Z
LAST-MODIFIED:20230726T020928Z
UID:2505-1692387000-1692394200@themovecollective.org
SUMMARY:DJ Michael P
DESCRIPTION:Join DJ Michael P this week at The Move! Dovercourt House\, 3rd floor.
URL:https://themovecollective.org/event/dj-michael-p-32/
CATEGORIES:Dance Events,The Move
END:VEVENT
BEGIN:VEVENT
DTSTART;TZID=America/Toronto:20230821T193000
DTEND;TZID=America/Toronto:20230821T213000
DTSTAMP:20260421T184650
CREATED:20230726T021038Z
LAST-MODIFIED:20230726T021038Z
UID:2507-1692646200-1692653400@themovecollective.org
SUMMARY:DJ Ariel
DESCRIPTION:Join DJ Ariel this week at The Monday Move! Dovercourt House\, 3rd floor.
URL:https://themovecollective.org/event/dj-ariel-44/
CATEGORIES:Dance Events,The Move
END:VEVENT
BEGIN:VEVENT
DTSTART;TZID=America/Toronto:20230825T193000
DTEND;TZID=America/Toronto:20230825T213000
DTSTAMP:20260421T184650
CREATED:20230726T021129Z
LAST-MODIFIED:20230726T021129Z
UID:2509-1692991800-1692999000@themovecollective.org
SUMMARY:DJ Ariel
DESCRIPTION:Join DJ Ariel this week at The Move! Dovercourt House\, 3rd floor.
URL:https://themovecollective.org/event/dj-ariel-45/
CATEGORIES:Dance Events,The Move
END:VEVENT
BEGIN:VEVENT
DTSTART;TZID=America/Toronto:20230828T193000
DTEND;TZID=America/Toronto:20230828T213000
DTSTAMP:20260421T184650
CREATED:20230726T021542Z
LAST-MODIFIED:20230726T021542Z
UID:2511-1693251000-1693258200@themovecollective.org
SUMMARY:DJ Twyla
DESCRIPTION:Join DJ Twyla this week at The Monday Move! Dovercourt House\, 3rd floor.
URL:https://themovecollective.org/event/dj-twyla-25/
CATEGORIES:Dance Events,The Move
END:VEVENT
END:VCALENDAR