BEGIN:VCALENDAR
VERSION:2.0
PRODID:-//The Move Collective - ECPv6.15.11//NONSGML v1.0//EN
CALSCALE:GREGORIAN
METHOD:PUBLISH
X-WR-CALNAME:The Move Collective
X-ORIGINAL-URL:https://themovecollective.org
X-WR-CALDESC:Events for The Move Collective
REFRESH-INTERVAL;VALUE=DURATION:PT1H
X-Robots-Tag:noindex
X-PUBLISHED-TTL:PT1H
BEGIN:VTIMEZONE
TZID:America/Toronto
BEGIN:DAYLIGHT
TZOFFSETFROM:-0500
TZOFFSETTO:-0400
TZNAME:EDT
DTSTART:20220313T070000
END:DAYLIGHT
BEGIN:STANDARD
TZOFFSETFROM:-0400
TZOFFSETTO:-0500
TZNAME:EST
DTSTART:20221106T060000
END:STANDARD
BEGIN:DAYLIGHT
TZOFFSETFROM:-0500
TZOFFSETTO:-0400
TZNAME:EDT
DTSTART:20230312T070000
END:DAYLIGHT
BEGIN:STANDARD
TZOFFSETFROM:-0400
TZOFFSETTO:-0500
TZNAME:EST
DTSTART:20231105T060000
END:STANDARD
BEGIN:DAYLIGHT
TZOFFSETFROM:-0500
TZOFFSETTO:-0400
TZNAME:EDT
DTSTART:20240310T070000
END:DAYLIGHT
BEGIN:STANDARD
TZOFFSETFROM:-0400
TZOFFSETTO:-0500
TZNAME:EST
DTSTART:20241103T060000
END:STANDARD
END:VTIMEZONE
BEGIN:VEVENT
DTSTART;TZID=America/Toronto:20230901T193000
DTEND;TZID=America/Toronto:20230901T213000
DTSTAMP:20260421T170025
CREATED:20230726T021638Z
LAST-MODIFIED:20230726T021638Z
UID:2513-1693596600-1693603800@themovecollective.org
SUMMARY:DJ Ferenc
DESCRIPTION:Join DJ Ferenc this week at The Move! Dovercourt House\, 3rd floor.
URL:https://themovecollective.org/event/dj-ferenc-26/
CATEGORIES:Dance Events,The Move
END:VEVENT
BEGIN:VEVENT
DTSTART;TZID=America/Toronto:20230904T193000
DTEND;TZID=America/Toronto:20230904T213000
DTSTAMP:20260421T170025
CREATED:20230824T001733Z
LAST-MODIFIED:20230824T001733Z
UID:2522-1693855800-1693863000@themovecollective.org
SUMMARY:DJ Michael P
DESCRIPTION:Join DJ Michael P this week at The Monday Move! Dovercourt House\, 3rd floor.
URL:https://themovecollective.org/event/dj-michael-p-33/
CATEGORIES:Dance Events,The Move
END:VEVENT
BEGIN:VEVENT
DTSTART;TZID=America/Toronto:20230908T193000
DTEND;TZID=America/Toronto:20230908T213000
DTSTAMP:20260421T170025
CREATED:20230824T001846Z
LAST-MODIFIED:20230824T001846Z
UID:2524-1694201400-1694208600@themovecollective.org
SUMMARY:DJ Sarah J
DESCRIPTION:Join DJ Sarah J this week at The Move! Dovercourt House\, 3rd floor.
URL:https://themovecollective.org/event/dj-sarah-j-2/
CATEGORIES:Dance Events,The Move
END:VEVENT
BEGIN:VEVENT
DTSTART;TZID=America/Toronto:20230911T193000
DTEND;TZID=America/Toronto:20230911T213000
DTSTAMP:20260421T170025
CREATED:20230824T001939Z
LAST-MODIFIED:20230824T002016Z
UID:2526-1694460600-1694467800@themovecollective.org
SUMMARY:DJ Twyla
DESCRIPTION:Join DJ Twyla this week at The Monday Move! Dovercourt House\, 3rd floor.
URL:https://themovecollective.org/event/dj-twyla-26/
CATEGORIES:Dance Events,The Move
END:VEVENT
BEGIN:VEVENT
DTSTART;TZID=America/Toronto:20230915T193000
DTEND;TZID=America/Toronto:20230915T213000
DTSTAMP:20260421T170025
CREATED:20230824T002305Z
LAST-MODIFIED:20230915T010115Z
UID:2529-1694806200-1694813400@themovecollective.org
SUMMARY:DJ Ferenc
DESCRIPTION:Join DJ Ferenc this week at The Move! Dovercourt House\, 3rd floor.
URL:https://themovecollective.org/event/dj-frank-3/
CATEGORIES:Dance Events,The Move
END:VEVENT
BEGIN:VEVENT
DTSTART;TZID=America/Toronto:20230918T193000
DTEND;TZID=America/Toronto:20230918T213000
DTSTAMP:20260421T170025
CREATED:20230824T002409Z
LAST-MODIFIED:20230824T002409Z
UID:2531-1695065400-1695072600@themovecollective.org
SUMMARY:DJ Ferenc
DESCRIPTION:Join DJ Ferenc this week at The Monday Move! Dovercourt House\, 3rd floor.
URL:https://themovecollective.org/event/dj-ferenc-27/
CATEGORIES:Dance Events,The Move
END:VEVENT
BEGIN:VEVENT
DTSTART;TZID=America/Toronto:20230922T193000
DTEND;TZID=America/Toronto:20230922T213000
DTSTAMP:20260421T170025
CREATED:20230824T002508Z
LAST-MODIFIED:20230824T002508Z
UID:2533-1695411000-1695418200@themovecollective.org
SUMMARY:DJ Valerie
DESCRIPTION:Join DJ Valerie this week at The Move! Dovercourt House\, 3rd floor.
URL:https://themovecollective.org/event/dj-valerie-37/
CATEGORIES:Dance Events,The Move
END:VEVENT
BEGIN:VEVENT
DTSTART;TZID=America/Toronto:20230925T193000
DTEND;TZID=America/Toronto:20230925T213000
DTSTAMP:20260421T170025
CREATED:20230824T002558Z
LAST-MODIFIED:20230824T002623Z
UID:2535-1695670200-1695677400@themovecollective.org
SUMMARY:DJ Michael P
DESCRIPTION:Join DJ Michael P this week at The Monday Move! Dovercourt House\, 3rd floor.
URL:https://themovecollective.org/event/dj-michael-p-34/
CATEGORIES:Dance Events,The Move
END:VEVENT
BEGIN:VEVENT
DTSTART;TZID=America/Toronto:20230929T193000
DTEND;TZID=America/Toronto:20230929T213000
DTSTAMP:20260421T170025
CREATED:20230824T002707Z
LAST-MODIFIED:20230927T022648Z
UID:2538-1696015800-1696023000@themovecollective.org
SUMMARY:DJ Goldiloxx
DESCRIPTION:Join DJ Goldiloxx this week at The Move! Dovercourt House\, 3rd floor.
URL:https://themovecollective.org/event/dj-marni/
CATEGORIES:Dance Events,The Move
END:VEVENT
END:VCALENDAR