BEGIN:VCALENDAR
VERSION:2.0
PRODID:-//The Move Collective - ECPv6.15.11//NONSGML v1.0//EN
CALSCALE:GREGORIAN
METHOD:PUBLISH
X-ORIGINAL-URL:https://themovecollective.org
X-WR-CALDESC:Events for The Move Collective
REFRESH-INTERVAL;VALUE=DURATION:PT1H
X-Robots-Tag:noindex
X-PUBLISHED-TTL:PT1H
BEGIN:VTIMEZONE
TZID:America/Toronto
BEGIN:DAYLIGHT
TZOFFSETFROM:-0500
TZOFFSETTO:-0400
TZNAME:EDT
DTSTART:20220313T070000
END:DAYLIGHT
BEGIN:STANDARD
TZOFFSETFROM:-0400
TZOFFSETTO:-0500
TZNAME:EST
DTSTART:20221106T060000
END:STANDARD
BEGIN:DAYLIGHT
TZOFFSETFROM:-0500
TZOFFSETTO:-0400
TZNAME:EDT
DTSTART:20230312T070000
END:DAYLIGHT
BEGIN:STANDARD
TZOFFSETFROM:-0400
TZOFFSETTO:-0500
TZNAME:EST
DTSTART:20231105T060000
END:STANDARD
BEGIN:DAYLIGHT
TZOFFSETFROM:-0500
TZOFFSETTO:-0400
TZNAME:EDT
DTSTART:20240310T070000
END:DAYLIGHT
BEGIN:STANDARD
TZOFFSETFROM:-0400
TZOFFSETTO:-0500
TZNAME:EST
DTSTART:20241103T060000
END:STANDARD
END:VTIMEZONE
BEGIN:VEVENT
DTSTART;TZID=America/Toronto:20231002T193000
DTEND;TZID=America/Toronto:20231002T213000
DTSTAMP:20260421T152149
CREATED:20230929T145111Z
LAST-MODIFIED:20230929T145111Z
UID:2549-1696275000-1696282200@themovecollective.org
SUMMARY:DJ Twyla
DESCRIPTION:Join DJ Twyla for The Monday Move! Dovercourt House\, 3rd floor
URL:https://themovecollective.org/event/dj-twyla-27/
CATEGORIES:Dance Events,The Move
END:VEVENT
BEGIN:VEVENT
DTSTART;TZID=America/Toronto:20231006T193000
DTEND;TZID=America/Toronto:20231006T213000
DTSTAMP:20260421T152149
CREATED:20230929T145223Z
LAST-MODIFIED:20230929T145223Z
UID:2551-1696620600-1696627800@themovecollective.org
SUMMARY:DJ Michael P
DESCRIPTION:Join DJ Michael P at The Move this Friday! Dovercourt House\, 3rd floor
URL:https://themovecollective.org/event/dj-michael-p-35/
CATEGORIES:Dance Events,The Move
END:VEVENT
BEGIN:VEVENT
DTSTART;TZID=America/Toronto:20231009T193000
DTEND;TZID=America/Toronto:20231009T213000
DTSTAMP:20260421T152149
CREATED:20230929T145334Z
LAST-MODIFIED:20230929T145334Z
UID:2553-1696879800-1696887000@themovecollective.org
SUMMARY:DJ Sarah J
DESCRIPTION:Join DJ Sarah J at The Monday Move this week! Dovercourt House\, 3rd floor
URL:https://themovecollective.org/event/dj-sarah-j-3/
CATEGORIES:Dance Events,The Move
END:VEVENT
BEGIN:VEVENT
DTSTART;TZID=America/Toronto:20231016T193000
DTEND;TZID=America/Toronto:20231016T213000
DTSTAMP:20260421T152149
CREATED:20231014T204432Z
LAST-MODIFIED:20231014T204432Z
UID:2556-1697484600-1697491800@themovecollective.org
SUMMARY:DJ Ferenc
DESCRIPTION:Join DJ Ferenc this week for The Monday Move! Dovercourt House\, 3rd floor
URL:https://themovecollective.org/event/dj-ferenc-28/
CATEGORIES:Dance Events,The Move
END:VEVENT
BEGIN:VEVENT
DTSTART;TZID=America/Toronto:20231020T193000
DTEND;TZID=America/Toronto:20231020T213000
DTSTAMP:20260421T152149
CREATED:20231014T204603Z
LAST-MODIFIED:20231014T204603Z
UID:2558-1697830200-1697837400@themovecollective.org
SUMMARY:DJ Goldiloxx
DESCRIPTION:Join DJ Goldiloxx this week at The Move! Dovercourt House\, 3rd floor
URL:https://themovecollective.org/event/dj-goldiloxx-3/
CATEGORIES:Dance Events,The Move
END:VEVENT
BEGIN:VEVENT
DTSTART;TZID=America/Toronto:20231023T193000
DTEND;TZID=America/Toronto:20231023T213000
DTSTAMP:20260421T152149
CREATED:20231014T204711Z
LAST-MODIFIED:20231014T204711Z
UID:2560-1698089400-1698096600@themovecollective.org
SUMMARY:DJ Sarah J
DESCRIPTION:Join DJ Sarah J this week for The Monday Move! Dovercourt House\, 3rd floor
URL:https://themovecollective.org/event/dj-sarah-j-4/
CATEGORIES:Dance Events,The Move
END:VEVENT
BEGIN:VEVENT
DTSTART;TZID=America/Toronto:20231027T193000
DTEND;TZID=America/Toronto:20231027T213000
DTSTAMP:20260421T152149
CREATED:20231014T204818Z
LAST-MODIFIED:20231014T204818Z
UID:2562-1698435000-1698442200@themovecollective.org
SUMMARY:DJ Ferenc
DESCRIPTION:Join DJ Ferenc this week at The Move! Dovercourt House\, 3rd floor
URL:https://themovecollective.org/event/dj-ferenc-29/
CATEGORIES:Dance Events,The Move
END:VEVENT
BEGIN:VEVENT
DTSTART;TZID=America/Toronto:20231030T193000
DTEND;TZID=America/Toronto:20231030T213000
DTSTAMP:20260421T152149
CREATED:20231014T204917Z
LAST-MODIFIED:20231014T204917Z
UID:2564-1698694200-1698701400@themovecollective.org
SUMMARY:DJ Michael P
DESCRIPTION:Join DJ Michael P this week for The Monday Move! Dovercourt House\, 3rd floor
URL:https://themovecollective.org/event/dj-michael-p-36/
CATEGORIES:Dance Events,The Move
END:VEVENT
END:VCALENDAR