BEGIN:VCALENDAR
VERSION:2.0
PRODID:-//The Move Collective - ECPv6.15.11//NONSGML v1.0//EN
CALSCALE:GREGORIAN
METHOD:PUBLISH
X-ORIGINAL-URL:https://themovecollective.org
X-WR-CALDESC:Events for The Move Collective
REFRESH-INTERVAL;VALUE=DURATION:PT1H
X-Robots-Tag:noindex
X-PUBLISHED-TTL:PT1H
BEGIN:VTIMEZONE
TZID:America/Toronto
BEGIN:DAYLIGHT
TZOFFSETFROM:-0500
TZOFFSETTO:-0400
TZNAME:EDT
DTSTART:20230312T070000
END:DAYLIGHT
BEGIN:STANDARD
TZOFFSETFROM:-0400
TZOFFSETTO:-0500
TZNAME:EST
DTSTART:20231105T060000
END:STANDARD
BEGIN:DAYLIGHT
TZOFFSETFROM:-0500
TZOFFSETTO:-0400
TZNAME:EDT
DTSTART:20240310T070000
END:DAYLIGHT
BEGIN:STANDARD
TZOFFSETFROM:-0400
TZOFFSETTO:-0500
TZNAME:EST
DTSTART:20241103T060000
END:STANDARD
BEGIN:DAYLIGHT
TZOFFSETFROM:-0500
TZOFFSETTO:-0400
TZNAME:EDT
DTSTART:20250309T070000
END:DAYLIGHT
BEGIN:STANDARD
TZOFFSETFROM:-0400
TZOFFSETTO:-0500
TZNAME:EST
DTSTART:20251102T060000
END:STANDARD
END:VTIMEZONE
BEGIN:VEVENT
DTSTART;TZID=America/Toronto:20240301T193000
DTEND;TZID=America/Toronto:20240301T213000
DTSTAMP:20260421T025221
CREATED:20240213T205236Z
LAST-MODIFIED:20240213T205236Z
UID:2658-1709321400-1709328600@themovecollective.org
SUMMARY:DJ Ariel
DESCRIPTION:Join DJ Ariel this week at The Move! Dovercourt House\, 3rd floor.
URL:https://themovecollective.org/event/dj-ariel-49/
CATEGORIES:Dance Events,The Move
END:VEVENT
BEGIN:VEVENT
DTSTART;TZID=America/Toronto:20240304T193000
DTEND;TZID=America/Toronto:20240304T213000
DTSTAMP:20260421T025221
CREATED:20240213T205354Z
LAST-MODIFIED:20240213T205354Z
UID:2660-1709580600-1709587800@themovecollective.org
SUMMARY:DJ Twyla
DESCRIPTION:Join DJ Twyla this week at The Monday Move! Dovercourt House\, 3rd floor.
URL:https://themovecollective.org/event/dj-twyla-32/
CATEGORIES:Dance Events,The Move
END:VEVENT
BEGIN:VEVENT
DTSTART;TZID=America/Toronto:20240308T193000
DTEND;TZID=America/Toronto:20240308T223000
DTSTAMP:20260421T025221
CREATED:20240213T205523Z
LAST-MODIFIED:20240213T205523Z
UID:2662-1709926200-1709937000@themovecollective.org
SUMMARY:DJ Goldiloxx and Potluck!
DESCRIPTION:Join DJ Goldiloxx this week at The Move and stay for our monthly community potluck! Dovercourt House\, 3rd floor.
URL:https://themovecollective.org/event/dj-goldiloxx-and-potluck/
CATEGORIES:Community Potluck,Dance Events,The Move
END:VEVENT
BEGIN:VEVENT
DTSTART;TZID=America/Toronto:20240311T193000
DTEND;TZID=America/Toronto:20240311T213000
DTSTAMP:20260421T025221
CREATED:20240213T205628Z
LAST-MODIFIED:20240213T205628Z
UID:2664-1710185400-1710192600@themovecollective.org
SUMMARY:DJ Ferenc
DESCRIPTION:Join DJ Ferenc this week at The Monday Move! Dovercourt House\, 3rd floor.
URL:https://themovecollective.org/event/dj-ferenc-37/
CATEGORIES:Dance Events,The Move
END:VEVENT
BEGIN:VEVENT
DTSTART;TZID=America/Toronto:20240315T193000
DTEND;TZID=America/Toronto:20240315T213000
DTSTAMP:20260421T025221
CREATED:20240213T205721Z
LAST-MODIFIED:20240213T205721Z
UID:2667-1710531000-1710538200@themovecollective.org
SUMMARY:DJ Michael P
DESCRIPTION:Join DJ Michael P this week at The Move! Dovercourt House\, 3rd floor.
URL:https://themovecollective.org/event/dj-michael-p-41/
CATEGORIES:Dance Events,The Move
END:VEVENT
BEGIN:VEVENT
DTSTART;TZID=America/Toronto:20240318T193000
DTEND;TZID=America/Toronto:20240318T213000
DTSTAMP:20260421T025221
CREATED:20240213T205803Z
LAST-MODIFIED:20240213T205803Z
UID:2669-1710790200-1710797400@themovecollective.org
SUMMARY:DJ Sarah J
DESCRIPTION:Join DJ Sarah J this week at The Monday Move! Dovercourt House\, 3rd floor.
URL:https://themovecollective.org/event/dj-sarah-j-11/
CATEGORIES:Dance Events,The Move
END:VEVENT
BEGIN:VEVENT
DTSTART;TZID=America/Toronto:20240322T193000
DTEND;TZID=America/Toronto:20240322T213000
DTSTAMP:20260421T025221
CREATED:20240213T205842Z
LAST-MODIFIED:20240213T205842Z
UID:2671-1711135800-1711143000@themovecollective.org
SUMMARY:DJ Twyla
DESCRIPTION:Join DJ Twyla this week at The Move! Dovercourt House\, 3rd floor.
URL:https://themovecollective.org/event/dj-twyla-33/
CATEGORIES:Dance Events,The Move
END:VEVENT
BEGIN:VEVENT
DTSTART;TZID=America/Toronto:20240325T193000
DTEND;TZID=America/Toronto:20240325T213000
DTSTAMP:20260421T025221
CREATED:20240213T205923Z
LAST-MODIFIED:20240213T205923Z
UID:2673-1711395000-1711402200@themovecollective.org
SUMMARY:DJ Michael P
DESCRIPTION:Join DJ Michael P this week at The Monday Move! Dovercourt House\, 3rd floor.
URL:https://themovecollective.org/event/dj-michael-p-42/
CATEGORIES:Dance Events,The Move
END:VEVENT
BEGIN:VEVENT
DTSTART;TZID=America/Toronto:20240329T193000
DTEND;TZID=America/Toronto:20240329T213000
DTSTAMP:20260421T025221
CREATED:20240213T210009Z
LAST-MODIFIED:20240213T210009Z
UID:2675-1711740600-1711747800@themovecollective.org
SUMMARY:DJ Ariel
DESCRIPTION:Join DJ Ariel this week at The Move! Dovercourt House\, 3rd floor.
URL:https://themovecollective.org/event/dj-ariel-50/
CATEGORIES:Dance Events,The Move
END:VEVENT
END:VCALENDAR