BEGIN:VCALENDAR
VERSION:2.0
PRODID:-//The Move Collective - ECPv6.15.11//NONSGML v1.0//EN
CALSCALE:GREGORIAN
METHOD:PUBLISH
X-WR-CALNAME:The Move Collective
X-ORIGINAL-URL:https://themovecollective.org
X-WR-CALDESC:Events for The Move Collective
REFRESH-INTERVAL;VALUE=DURATION:PT1H
X-Robots-Tag:noindex
X-PUBLISHED-TTL:PT1H
BEGIN:VTIMEZONE
TZID:America/Toronto
BEGIN:DAYLIGHT
TZOFFSETFROM:-0500
TZOFFSETTO:-0400
TZNAME:EDT
DTSTART:20230312T070000
END:DAYLIGHT
BEGIN:STANDARD
TZOFFSETFROM:-0400
TZOFFSETTO:-0500
TZNAME:EST
DTSTART:20231105T060000
END:STANDARD
BEGIN:DAYLIGHT
TZOFFSETFROM:-0500
TZOFFSETTO:-0400
TZNAME:EDT
DTSTART:20240310T070000
END:DAYLIGHT
BEGIN:STANDARD
TZOFFSETFROM:-0400
TZOFFSETTO:-0500
TZNAME:EST
DTSTART:20241103T060000
END:STANDARD
BEGIN:DAYLIGHT
TZOFFSETFROM:-0500
TZOFFSETTO:-0400
TZNAME:EDT
DTSTART:20250309T070000
END:DAYLIGHT
BEGIN:STANDARD
TZOFFSETFROM:-0400
TZOFFSETTO:-0500
TZNAME:EST
DTSTART:20251102T060000
END:STANDARD
END:VTIMEZONE
BEGIN:VEVENT
DTSTART;TZID=America/Toronto:20240401T193000
DTEND;TZID=America/Toronto:20240401T213000
DTSTAMP:20260421T010936
CREATED:20240331T124500Z
LAST-MODIFIED:20240331T124500Z
UID:2678-1711999800-1712007000@themovecollective.org
SUMMARY:DJ Ferenc
DESCRIPTION:Join DJ Ferenc this week at The Monday Move! Dovercourt House\, 3rd floor.
URL:https://themovecollective.org/event/dj-ferenc-38/
CATEGORIES:Dance Events,The Move
END:VEVENT
BEGIN:VEVENT
DTSTART;TZID=America/Toronto:20240405T193000
DTEND;TZID=America/Toronto:20240405T220000
DTSTAMP:20260421T010936
CREATED:20240331T130807Z
LAST-MODIFIED:20240331T130807Z
UID:2681-1712345400-1712354400@themovecollective.org
SUMMARY:DJ Goldiloxx
DESCRIPTION:Join DJ Goldiloxx this week at The Move and stay after for a sing-along jam with James McGuire! Dovercourt House\, 3rd floor.
URL:https://themovecollective.org/event/dj-goldiloxx-7/
CATEGORIES:Dance Events,The Move
END:VEVENT
BEGIN:VEVENT
DTSTART;TZID=America/Toronto:20240408T193000
DTEND;TZID=America/Toronto:20240408T213000
DTSTAMP:20260421T010936
CREATED:20240402T211530Z
LAST-MODIFIED:20240402T211530Z
UID:2684-1712604600-1712611800@themovecollective.org
SUMMARY:DJ Ferenc
DESCRIPTION:Join DJ Ferenc this week at The Monday Move! Dovercourt House\, 3rd floor.
URL:https://themovecollective.org/event/dj-ferenc-39/
CATEGORIES:Dance Events,The Move
END:VEVENT
BEGIN:VEVENT
DTSTART;TZID=America/Toronto:20240412T193000
DTEND;TZID=America/Toronto:20240412T223000
DTSTAMP:20260421T010936
CREATED:20240402T211706Z
LAST-MODIFIED:20240410T153409Z
UID:2686-1712950200-1712961000@themovecollective.org
SUMMARY:DJ Ariel + 21st Anniversary Potluck!
DESCRIPTION:Join DJ Ariel this Friday at The Move! Stay after the dance for our 21st anniversary celebrations and monthly community potluck (bring some tasty bites to share with your fellow dancers)! Dovercourt House\, 3rd floor.
URL:https://themovecollective.org/event/dj-ariel-51/
CATEGORIES:Community Potluck,Dance Events,The Move
END:VEVENT
BEGIN:VEVENT
DTSTART;TZID=America/Toronto:20240415T193000
DTEND;TZID=America/Toronto:20240415T213000
DTSTAMP:20260421T010936
CREATED:20240402T211808Z
LAST-MODIFIED:20240402T211808Z
UID:2688-1713209400-1713216600@themovecollective.org
SUMMARY:DJ Sarah J
DESCRIPTION:Join DJ Sarah J this week at The Monday Move! Dovercourt House\, 3rd floor.
URL:https://themovecollective.org/event/dj-sarah-j-12/
CATEGORIES:Dance Events,The Move
END:VEVENT
BEGIN:VEVENT
DTSTART;TZID=America/Toronto:20240419T193000
DTEND;TZID=America/Toronto:20240419T220000
DTSTAMP:20260421T010936
CREATED:20240402T211904Z
LAST-MODIFIED:20240416T160752Z
UID:2690-1713555000-1713564000@themovecollective.org
SUMMARY:DJ Michael P
DESCRIPTION:Join DJ Michael P this Friday at The Move! Henry Wai will offer another Talking About Dance session after the dance. Dovercourt House\, 3rd floor.
URL:https://themovecollective.org/event/dj-michael-p-43/
CATEGORIES:Dance Events,RAP session,The Move
END:VEVENT
BEGIN:VEVENT
DTSTART;TZID=America/Toronto:20240422T193000
DTEND;TZID=America/Toronto:20240422T213000
DTSTAMP:20260421T010936
CREATED:20240402T211950Z
LAST-MODIFIED:20240402T211950Z
UID:2692-1713814200-1713821400@themovecollective.org
SUMMARY:DJ Twyla
DESCRIPTION:Join DJ Twyla this week at The Monday Move! Dovercourt House\, 3rd floor.
URL:https://themovecollective.org/event/dj-twyla-34/
CATEGORIES:Dance Events,The Move
END:VEVENT
BEGIN:VEVENT
DTSTART;TZID=America/Toronto:20240426T193000
DTEND;TZID=America/Toronto:20240426T213000
DTSTAMP:20260421T010936
CREATED:20240416T160725Z
LAST-MODIFIED:20240416T160725Z
UID:2700-1714159800-1714167000@themovecollective.org
SUMMARY:DJ Frank
DESCRIPTION:Join DJ Frank this Friday at The Move! Dovercourt House\, 3rd floor.
URL:https://themovecollective.org/event/dj-frank-5/
CATEGORIES:Dance Events,The Move
END:VEVENT
BEGIN:VEVENT
DTSTART;TZID=America/Toronto:20240429T193000
DTEND;TZID=America/Toronto:20240429T213000
DTSTAMP:20260421T010936
CREATED:20240416T160928Z
LAST-MODIFIED:20240416T160928Z
UID:2702-1714419000-1714426200@themovecollective.org
SUMMARY:DJ Goldiloxx
DESCRIPTION:Join DJ Goldiloxx this week at The Monday Move! Dovercourt House\, 3rd floor.
URL:https://themovecollective.org/event/dj-goldiloxx-8/
CATEGORIES:Dance Events,The Move
END:VEVENT
END:VCALENDAR