BEGIN:VCALENDAR
VERSION:2.0
PRODID:-//The Move Collective - ECPv6.15.11//NONSGML v1.0//EN
CALSCALE:GREGORIAN
METHOD:PUBLISH
X-WR-CALNAME:The Move Collective
X-ORIGINAL-URL:https://themovecollective.org
X-WR-CALDESC:Events for The Move Collective
REFRESH-INTERVAL;VALUE=DURATION:PT1H
X-Robots-Tag:noindex
X-PUBLISHED-TTL:PT1H
BEGIN:VTIMEZONE
TZID:America/Toronto
BEGIN:DAYLIGHT
TZOFFSETFROM:-0500
TZOFFSETTO:-0400
TZNAME:EDT
DTSTART:20230312T070000
END:DAYLIGHT
BEGIN:STANDARD
TZOFFSETFROM:-0400
TZOFFSETTO:-0500
TZNAME:EST
DTSTART:20231105T060000
END:STANDARD
BEGIN:DAYLIGHT
TZOFFSETFROM:-0500
TZOFFSETTO:-0400
TZNAME:EDT
DTSTART:20240310T070000
END:DAYLIGHT
BEGIN:STANDARD
TZOFFSETFROM:-0400
TZOFFSETTO:-0500
TZNAME:EST
DTSTART:20241103T060000
END:STANDARD
BEGIN:DAYLIGHT
TZOFFSETFROM:-0500
TZOFFSETTO:-0400
TZNAME:EDT
DTSTART:20250309T070000
END:DAYLIGHT
BEGIN:STANDARD
TZOFFSETFROM:-0400
TZOFFSETTO:-0500
TZNAME:EST
DTSTART:20251102T060000
END:STANDARD
END:VTIMEZONE
BEGIN:VEVENT
DTSTART;TZID=America/Toronto:20240701T193000
DTEND;TZID=America/Toronto:20240701T213000
DTSTAMP:20260420T200259
CREATED:20240606T203513Z
LAST-MODIFIED:20240606T203513Z
UID:2749-1719862200-1719869400@themovecollective.org
SUMMARY:DJ Twyla
DESCRIPTION:Join DJ Twyla this week at the Monday Move! 805 Dovercourt\, 3rd floor.
URL:https://themovecollective.org/event/dj-twyla-36/
CATEGORIES:Dance Events,The Move
END:VEVENT
BEGIN:VEVENT
DTSTART;TZID=America/Toronto:20240705T193000
DTEND;TZID=America/Toronto:20240705T213000
DTSTAMP:20260420T200259
CREATED:20240606T203610Z
LAST-MODIFIED:20240606T203610Z
UID:2751-1720207800-1720215000@themovecollective.org
SUMMARY:DJ Michael P
DESCRIPTION:Join DJ Michael P this Friday at the Move! 805 Dovercourt\, 3rd floor.
URL:https://themovecollective.org/event/dj-michael-p-47/
CATEGORIES:Dance Events,The Move
END:VEVENT
BEGIN:VEVENT
DTSTART;TZID=America/Toronto:20240708T193000
DTEND;TZID=America/Toronto:20240708T213000
DTSTAMP:20260420T200259
CREATED:20240606T203650Z
LAST-MODIFIED:20240606T203650Z
UID:2753-1720467000-1720474200@themovecollective.org
SUMMARY:DJ Sarah J
DESCRIPTION:Join DJ Sarah J this week at the Monday Move! 805 Dovercourt\, 3rd floor.
URL:https://themovecollective.org/event/dj-sarah-j-14/
CATEGORIES:Dance Events,The Move
END:VEVENT
BEGIN:VEVENT
DTSTART;TZID=America/Toronto:20240712T193000
DTEND;TZID=America/Toronto:20240712T223000
DTSTAMP:20260420T200259
CREATED:20240606T203804Z
LAST-MODIFIED:20240606T203804Z
UID:2755-1720812600-1720823400@themovecollective.org
SUMMARY:DJ Ferenc and Community Potluck!
DESCRIPTION:Join DJ Ferenc this Friday at the Move\, and stay for our monthly community potluck! 805 Dovercourt\, 3rd floor.
URL:https://themovecollective.org/event/dj-ferenc-and-community-potluck/
CATEGORIES:Community Potluck,Dance Events,The Move
END:VEVENT
BEGIN:VEVENT
DTSTART;TZID=America/Toronto:20240715T193000
DTEND;TZID=America/Toronto:20240715T213000
DTSTAMP:20260420T200259
CREATED:20240606T203933Z
LAST-MODIFIED:20240705T024537Z
UID:2757-1721071800-1721079000@themovecollective.org
SUMMARY:DJ duo Sara/Ferenc
DESCRIPTION:Join DJ duo Sara/Ferenc this week at the Monday Move! 805 Dovercourt\, 3rd floor.
URL:https://themovecollective.org/event/dj-duo-sara-frank/
CATEGORIES:Dance Events,The Move
END:VEVENT
BEGIN:VEVENT
DTSTART;TZID=America/Toronto:20240719T193000
DTEND;TZID=America/Toronto:20240719T213000
DTSTAMP:20260420T200259
CREATED:20240606T204031Z
LAST-MODIFIED:20240606T204031Z
UID:2759-1721417400-1721424600@themovecollective.org
SUMMARY:DJ Michael P
DESCRIPTION:Join DJ Michael P this Friday at the Move! 805 Dovercourt\, 3rd floor.
URL:https://themovecollective.org/event/dj-michael-p-48/
CATEGORIES:Dance Events,The Move
END:VEVENT
BEGIN:VEVENT
DTSTART;TZID=America/Toronto:20240722T193000
DTEND;TZID=America/Toronto:20240722T213000
DTSTAMP:20260420T200259
CREATED:20240606T204116Z
LAST-MODIFIED:20240606T204116Z
UID:2761-1721676600-1721683800@themovecollective.org
SUMMARY:DJ Goldiloxx
DESCRIPTION:Join DJ Goldiloxx this week at the Monday Move! 805 Dovercourt\, 3rd floor.
URL:https://themovecollective.org/event/dj-goldiloxx-10/
CATEGORIES:Dance Events,The Move
END:VEVENT
BEGIN:VEVENT
DTSTART;TZID=America/Toronto:20240726T193000
DTEND;TZID=America/Toronto:20240726T213000
DTSTAMP:20260420T200259
CREATED:20240606T204210Z
LAST-MODIFIED:20240606T204210Z
UID:2763-1722022200-1722029400@themovecollective.org
SUMMARY:DJ Twyla
DESCRIPTION:Join DJ Twyla this Friday at The Move! 805 Dovercourt\, 3rd floor.
URL:https://themovecollective.org/event/dj-twyla-37/
CATEGORIES:Dance Events,The Move
END:VEVENT
BEGIN:VEVENT
DTSTART;TZID=America/Toronto:20240729T193000
DTEND;TZID=America/Toronto:20240729T213000
DTSTAMP:20260420T200259
CREATED:20240606T204250Z
LAST-MODIFIED:20240606T204250Z
UID:2765-1722281400-1722288600@themovecollective.org
SUMMARY:DJ Ferenc
DESCRIPTION:Join DJ Ferenc this week at the Monday Move! 805 Dovercourt\, 3rd floor.
URL:https://themovecollective.org/event/dj-ferenc-42/
CATEGORIES:Dance Events,The Move
END:VEVENT
END:VCALENDAR