BEGIN:VCALENDAR
VERSION:2.0
PRODID:-//The Move Collective - ECPv6.15.11//NONSGML v1.0//EN
CALSCALE:GREGORIAN
METHOD:PUBLISH
X-ORIGINAL-URL:https://themovecollective.org
X-WR-CALDESC:Events for The Move Collective
REFRESH-INTERVAL;VALUE=DURATION:PT1H
X-Robots-Tag:noindex
X-PUBLISHED-TTL:PT1H
BEGIN:VTIMEZONE
TZID:America/Toronto
BEGIN:DAYLIGHT
TZOFFSETFROM:-0500
TZOFFSETTO:-0400
TZNAME:EDT
DTSTART:20230312T070000
END:DAYLIGHT
BEGIN:STANDARD
TZOFFSETFROM:-0400
TZOFFSETTO:-0500
TZNAME:EST
DTSTART:20231105T060000
END:STANDARD
BEGIN:DAYLIGHT
TZOFFSETFROM:-0500
TZOFFSETTO:-0400
TZNAME:EDT
DTSTART:20240310T070000
END:DAYLIGHT
BEGIN:STANDARD
TZOFFSETFROM:-0400
TZOFFSETTO:-0500
TZNAME:EST
DTSTART:20241103T060000
END:STANDARD
BEGIN:DAYLIGHT
TZOFFSETFROM:-0500
TZOFFSETTO:-0400
TZNAME:EDT
DTSTART:20250309T070000
END:DAYLIGHT
BEGIN:STANDARD
TZOFFSETFROM:-0400
TZOFFSETTO:-0500
TZNAME:EST
DTSTART:20251102T060000
END:STANDARD
END:VTIMEZONE
BEGIN:VEVENT
DTSTART;TZID=America/Toronto:20240902T193000
DTEND;TZID=America/Toronto:20240902T213000
DTSTAMP:20260420T170130
CREATED:20240731T220337Z
LAST-MODIFIED:20240821T161724Z
UID:2804-1725305400-1725312600@themovecollective.org
SUMMARY:DJ Frank
DESCRIPTION:Join DJ Frank this week at The Monday Move! 805 Dovercourt\, 3rd floor.
URL:https://themovecollective.org/event/dj-sarah-j-16/
CATEGORIES:Dance Events,The Move
END:VEVENT
BEGIN:VEVENT
DTSTART;TZID=America/Toronto:20240906T193000
DTEND;TZID=America/Toronto:20240906T213000
DTSTAMP:20260420T170130
CREATED:20240731T220710Z
LAST-MODIFIED:20240731T220710Z
UID:2806-1725651000-1725658200@themovecollective.org
SUMMARY:DJ Ferenc
DESCRIPTION:Join DJ Ferenc this Friday at The Move! 805 Dovercourt\, 3rd floor.
URL:https://themovecollective.org/event/dj-ferenc-44/
CATEGORIES:Dance Events,The Move
END:VEVENT
BEGIN:VEVENT
DTSTART;TZID=America/Toronto:20240909T193000
DTEND;TZID=America/Toronto:20240909T213000
DTSTAMP:20260420T170130
CREATED:20240731T221025Z
LAST-MODIFIED:20240731T221025Z
UID:2808-1725910200-1725917400@themovecollective.org
SUMMARY:DJ Twyla
DESCRIPTION:Join DJ Twyla this week at The Monday Move! 805 Dovercourt\, 3rd floor.
URL:https://themovecollective.org/event/dj-twyla-38/
CATEGORIES:Dance Events,The Move
END:VEVENT
BEGIN:VEVENT
DTSTART;TZID=America/Toronto:20240913T193000
DTEND;TZID=America/Toronto:20240913T220000
DTSTAMP:20260420T170130
CREATED:20240731T221137Z
LAST-MODIFIED:20240821T161804Z
UID:2810-1726255800-1726264800@themovecollective.org
SUMMARY:DJ duo Sara/Ferenc and Monthly Potluck
DESCRIPTION:Join DJ duo Sara/Ferenc this Friday at The Move! Stay after the dance for our monthly community potluck! 805 Dovercourt\, 3rd floor.
URL:https://themovecollective.org/event/dj-sarah-j-and-monthly-potluck/
CATEGORIES:Community Potluck,Dance Events,The Move
END:VEVENT
BEGIN:VEVENT
DTSTART;TZID=America/Toronto:20240916T193000
DTEND;TZID=America/Toronto:20240916T213000
DTSTAMP:20260420T170130
CREATED:20240731T221255Z
LAST-MODIFIED:20240731T221255Z
UID:2812-1726515000-1726522200@themovecollective.org
SUMMARY:DJ Michael P
DESCRIPTION:Join DJ Michael P this week at The Monday Move! 805 Dovercourt\, 3rd floor.
URL:https://themovecollective.org/event/dj-michael-p-52/
CATEGORIES:Dance Events,The Move
END:VEVENT
BEGIN:VEVENT
DTSTART;TZID=America/Toronto:20240920T193000
DTEND;TZID=America/Toronto:20240920T213000
DTSTAMP:20260420T170130
CREATED:20240731T221346Z
LAST-MODIFIED:20240731T221346Z
UID:2814-1726860600-1726867800@themovecollective.org
SUMMARY:DJ Ariel
DESCRIPTION:Join DJ Ariel this Friday at The Move! 805 Dovercourt\, 3rd floor.
URL:https://themovecollective.org/event/dj-ariel-55/
CATEGORIES:Dance Events,The Move
END:VEVENT
BEGIN:VEVENT
DTSTART;TZID=America/Toronto:20240923T193000
DTEND;TZID=America/Toronto:20240923T213000
DTSTAMP:20260420T170130
CREATED:20240918T013832Z
LAST-MODIFIED:20240918T013832Z
UID:2821-1727119800-1727127000@themovecollective.org
SUMMARY:DJ Sarah J
DESCRIPTION:Join DJ Sarah J this week at The Monday Move! 805 Dovercourt\, 3rd floor.
URL:https://themovecollective.org/event/dj-sarah-j-17/
CATEGORIES:Dance Events,The Move
END:VEVENT
BEGIN:VEVENT
DTSTART;TZID=America/Toronto:20240927T193000
DTEND;TZID=America/Toronto:20240927T213000
DTSTAMP:20260420T170130
CREATED:20240918T013914Z
LAST-MODIFIED:20240923T154300Z
UID:2823-1727465400-1727472600@themovecollective.org
SUMMARY:DJ Michael P
DESCRIPTION:Join DJ Michael P this Friday at The Move! 805 Dovercourt\, 3rd floor.
URL:https://themovecollective.org/event/dj-goldiloxx-11/
CATEGORIES:Dance Events,The Move
END:VEVENT
BEGIN:VEVENT
DTSTART;TZID=America/Toronto:20240930T193000
DTEND;TZID=America/Toronto:20240930T213000
DTSTAMP:20260420T170130
CREATED:20240918T014017Z
LAST-MODIFIED:20240918T014017Z
UID:2825-1727724600-1727731800@themovecollective.org
SUMMARY:DJ Ferenc
DESCRIPTION:Join DJ Ferenc this week at The Monday Move! 805 Dovercourt\, 3rd floor.
URL:https://themovecollective.org/event/dj-ferenc-45/
CATEGORIES:Dance Events,The Move
END:VEVENT
END:VCALENDAR