BEGIN:VCALENDAR
VERSION:2.0
PRODID:-//The Move Collective - ECPv6.15.11//NONSGML v1.0//EN
CALSCALE:GREGORIAN
METHOD:PUBLISH
X-WR-CALNAME:The Move Collective
X-ORIGINAL-URL:https://themovecollective.org
X-WR-CALDESC:Events for The Move Collective
REFRESH-INTERVAL;VALUE=DURATION:PT1H
X-Robots-Tag:noindex
X-PUBLISHED-TTL:PT1H
BEGIN:VTIMEZONE
TZID:America/Toronto
BEGIN:DAYLIGHT
TZOFFSETFROM:-0500
TZOFFSETTO:-0400
TZNAME:EDT
DTSTART:20230312T070000
END:DAYLIGHT
BEGIN:STANDARD
TZOFFSETFROM:-0400
TZOFFSETTO:-0500
TZNAME:EST
DTSTART:20231105T060000
END:STANDARD
BEGIN:DAYLIGHT
TZOFFSETFROM:-0500
TZOFFSETTO:-0400
TZNAME:EDT
DTSTART:20240310T070000
END:DAYLIGHT
BEGIN:STANDARD
TZOFFSETFROM:-0400
TZOFFSETTO:-0500
TZNAME:EST
DTSTART:20241103T060000
END:STANDARD
BEGIN:DAYLIGHT
TZOFFSETFROM:-0500
TZOFFSETTO:-0400
TZNAME:EDT
DTSTART:20250309T070000
END:DAYLIGHT
BEGIN:STANDARD
TZOFFSETFROM:-0400
TZOFFSETTO:-0500
TZNAME:EST
DTSTART:20251102T060000
END:STANDARD
END:VTIMEZONE
BEGIN:VEVENT
DTSTART;TZID=America/Toronto:20241004T193000
DTEND;TZID=America/Toronto:20241004T213000
DTSTAMP:20260420T152015
CREATED:20240918T014056Z
LAST-MODIFIED:20240918T014056Z
UID:2827-1728070200-1728077400@themovecollective.org
SUMMARY:DJ Twyla
DESCRIPTION:Join DJ Twyla this Friday at The Move! 805 Dovercourt\, 3rd floor.
URL:https://themovecollective.org/event/dj-twyla-39/
CATEGORIES:Dance Events,The Move
END:VEVENT
BEGIN:VEVENT
DTSTART;TZID=America/Toronto:20241007T193000
DTEND;TZID=America/Toronto:20241007T213000
DTSTAMP:20260420T152015
CREATED:20240918T014142Z
LAST-MODIFIED:20240918T014142Z
UID:2829-1728329400-1728336600@themovecollective.org
SUMMARY:DJ Michael P
DESCRIPTION:Join DJ Michael P this week at The Monday Move! 805 Dovercourt\, 3rd floor.
URL:https://themovecollective.org/event/dj-michael-p-53/
CATEGORIES:Dance Events,The Move
END:VEVENT
BEGIN:VEVENT
DTSTART;TZID=America/Toronto:20241011T193000
DTEND;TZID=America/Toronto:20241011T220000
DTSTAMP:20260420T152015
CREATED:20240918T014245Z
LAST-MODIFIED:20240918T014245Z
UID:2831-1728675000-1728684000@themovecollective.org
SUMMARY:DJ Michael P and community potluck!
DESCRIPTION:Join DJ Michael P this Friday at The Move! Stay after the dance for our monthly community potluck. 805 Dovercourt\, 3rd floor.
URL:https://themovecollective.org/event/dj-michael-p-and-community-potluck-2/
CATEGORIES:Community Potluck,Dance Events,The Move
END:VEVENT
BEGIN:VEVENT
DTSTART;TZID=America/Toronto:20241014T193000
DTEND;TZID=America/Toronto:20241014T213000
DTSTAMP:20260420T152015
CREATED:20240918T014323Z
LAST-MODIFIED:20240918T014343Z
UID:2833-1728934200-1728941400@themovecollective.org
SUMMARY:DJ Ferenc
DESCRIPTION:Join DJ Ferenc this week at The Monday Move! 805 Dovercourt\, 3rd floor.
URL:https://themovecollective.org/event/dj-ferenc-46/
CATEGORIES:Dance Events,The Move
END:VEVENT
BEGIN:VEVENT
DTSTART;TZID=America/Toronto:20241021T193000
DTEND;TZID=America/Toronto:20241021T213000
DTSTAMP:20260420T152015
CREATED:20241018T201847Z
LAST-MODIFIED:20241018T201847Z
UID:2840-1729539000-1729546200@themovecollective.org
SUMMARY:Sarah J
DESCRIPTION:Join DJ Sarah J this week at The Monday Move! 805 Dovercourt\, 3rd floor.
URL:https://themovecollective.org/event/sarah-j/
CATEGORIES:Dance Events,The Move
END:VEVENT
BEGIN:VEVENT
DTSTART;TZID=America/Toronto:20241025T193000
DTEND;TZID=America/Toronto:20241025T213000
DTSTAMP:20260420T152015
CREATED:20241018T202557Z
LAST-MODIFIED:20241018T202557Z
UID:2842-1729884600-1729891800@themovecollective.org
SUMMARY:DJ Frank
DESCRIPTION:Join DJ Frank this Friday at The Move! 805 Dovercourt\, 3rd floor.
URL:https://themovecollective.org/event/dj-frank-7/
CATEGORIES:Dance Events,The Move
END:VEVENT
BEGIN:VEVENT
DTSTART;TZID=America/Toronto:20241028T193000
DTEND;TZID=America/Toronto:20241028T213000
DTSTAMP:20260420T152015
CREATED:20241018T202705Z
LAST-MODIFIED:20241018T202705Z
UID:2844-1730143800-1730151000@themovecollective.org
SUMMARY:DJ Ferenc
DESCRIPTION:Join DJ Ferenc this week at The Monday Move! 805 Dovercourt\, 3rd floor.
URL:https://themovecollective.org/event/dj-ferenc-47/
CATEGORIES:Dance Events,The Move
END:VEVENT
END:VCALENDAR