BEGIN:VCALENDAR
VERSION:2.0
PRODID:-//The Move Collective - ECPv6.15.11//NONSGML v1.0//EN
CALSCALE:GREGORIAN
METHOD:PUBLISH
X-ORIGINAL-URL:https://themovecollective.org
X-WR-CALDESC:Events for The Move Collective
REFRESH-INTERVAL;VALUE=DURATION:PT1H
X-Robots-Tag:noindex
X-PUBLISHED-TTL:PT1H
BEGIN:VTIMEZONE
TZID:America/Toronto
BEGIN:DAYLIGHT
TZOFFSETFROM:-0500
TZOFFSETTO:-0400
TZNAME:EDT
DTSTART:20230312T070000
END:DAYLIGHT
BEGIN:STANDARD
TZOFFSETFROM:-0400
TZOFFSETTO:-0500
TZNAME:EST
DTSTART:20231105T060000
END:STANDARD
BEGIN:DAYLIGHT
TZOFFSETFROM:-0500
TZOFFSETTO:-0400
TZNAME:EDT
DTSTART:20240310T070000
END:DAYLIGHT
BEGIN:STANDARD
TZOFFSETFROM:-0400
TZOFFSETTO:-0500
TZNAME:EST
DTSTART:20241103T060000
END:STANDARD
BEGIN:DAYLIGHT
TZOFFSETFROM:-0500
TZOFFSETTO:-0400
TZNAME:EDT
DTSTART:20250309T070000
END:DAYLIGHT
BEGIN:STANDARD
TZOFFSETFROM:-0400
TZOFFSETTO:-0500
TZNAME:EST
DTSTART:20251102T060000
END:STANDARD
END:VTIMEZONE
BEGIN:VEVENT
DTSTART;TZID=America/Toronto:20241104T193000
DTEND;TZID=America/Toronto:20241104T213000
DTSTAMP:20260420T134413
CREATED:20241103T200701Z
LAST-MODIFIED:20241103T200701Z
UID:2847-1730748600-1730755800@themovecollective.org
SUMMARY:DJ Twyla
DESCRIPTION:Join DJ Twyla this week at The Monday Move! Dovercourt House\, 3rd floor.
URL:https://themovecollective.org/event/dj-twyla-40/
CATEGORIES:Dance Events,The Move
END:VEVENT
BEGIN:VEVENT
DTSTART;TZID=America/Toronto:20241108T193000
DTEND;TZID=America/Toronto:20241108T220000
DTSTAMP:20260420T134413
CREATED:20241103T200830Z
LAST-MODIFIED:20241103T200830Z
UID:2849-1731094200-1731103200@themovecollective.org
SUMMARY:DJ Ariel and Community Potluck!
DESCRIPTION:Join DJ Ariel this Friday at The Move and stay after the dance for our monthly community potluck! Bring a tasty treat to share with your fellow dancers if you can. Dovercourt House\, 3rd floor.
URL:https://themovecollective.org/event/dj-ariel-and-community-potluck-4/
CATEGORIES:Community Potluck,Dance Events,The Move
END:VEVENT
BEGIN:VEVENT
DTSTART;TZID=America/Toronto:20241111T193000
DTEND;TZID=America/Toronto:20241111T213000
DTSTAMP:20260420T134413
CREATED:20241103T200944Z
LAST-MODIFIED:20241103T200944Z
UID:2851-1731353400-1731360600@themovecollective.org
SUMMARY:DJ Frank
DESCRIPTION:Join DJ Frank this week at The Monday Move! Dovercourt House\, 3rd floor.
URL:https://themovecollective.org/event/dj-frank-8/
CATEGORIES:Dance Events,The Move
END:VEVENT
BEGIN:VEVENT
DTSTART;TZID=America/Toronto:20241115T193000
DTEND;TZID=America/Toronto:20241115T213000
DTSTAMP:20260420T134413
CREATED:20241103T201044Z
LAST-MODIFIED:20241103T201044Z
UID:2853-1731699000-1731706200@themovecollective.org
SUMMARY:DJ Goldiloxx
DESCRIPTION:Join DJ Goldiloxx this Friday at The Move! Dovercourt House\, 3rd floor.
URL:https://themovecollective.org/event/dj-goldiloxx-12/
CATEGORIES:Dance Events,The Move
END:VEVENT
BEGIN:VEVENT
DTSTART;TZID=America/Toronto:20241118T193000
DTEND;TZID=America/Toronto:20241118T213000
DTSTAMP:20260420T134413
CREATED:20241103T201124Z
LAST-MODIFIED:20241115T171756Z
UID:2855-1731958200-1731965400@themovecollective.org
SUMMARY:DJ duo Sara/Ferenc
DESCRIPTION:Join DJ duo Sara/Ferenc this week at The Monday Move! Dovercourt House\, 3rd floor.
URL:https://themovecollective.org/event/dj-ferenc-48/
CATEGORIES:Dance Events,The Move
END:VEVENT
BEGIN:VEVENT
DTSTART;TZID=America/Toronto:20241122T193000
DTEND;TZID=America/Toronto:20241122T213000
DTSTAMP:20260420T134413
CREATED:20241103T201324Z
LAST-MODIFIED:20241115T171827Z
UID:2857-1732303800-1732311000@themovecollective.org
SUMMARY:DJ Ferenc
DESCRIPTION:Join DJ Ferenc this Friday at The Move! Dovercourt House\, 3rd floor.
URL:https://themovecollective.org/event/dj-duo-sara-ferenc-2/
CATEGORIES:Dance Events,The Move
END:VEVENT
BEGIN:VEVENT
DTSTART;TZID=America/Toronto:20241125T193000
DTEND;TZID=America/Toronto:20241125T213000
DTSTAMP:20260420T134413
CREATED:20241103T201403Z
LAST-MODIFIED:20241103T201403Z
UID:2859-1732563000-1732570200@themovecollective.org
SUMMARY:DJ Michael P
DESCRIPTION:Join DJ Michael P this week at The Monday Move! Dovercourt House\, 3rd floor.
URL:https://themovecollective.org/event/dj-michael-p-54/
CATEGORIES:Dance Events,The Move
END:VEVENT
BEGIN:VEVENT
DTSTART;TZID=America/Toronto:20241129T193000
DTEND;TZID=America/Toronto:20241129T213000
DTSTAMP:20260420T134413
CREATED:20241103T201448Z
LAST-MODIFIED:20241103T201448Z
UID:2861-1732908600-1732915800@themovecollective.org
SUMMARY:DJ Ariel
DESCRIPTION:Join DJ Ariel this Friday at The Move! Dovercourt House\, 3rd floor.
URL:https://themovecollective.org/event/dj-ariel-56/
CATEGORIES:Dance Events,The Move
END:VEVENT
END:VCALENDAR