BEGIN:VCALENDAR
VERSION:2.0
PRODID:-//The Move Collective - ECPv6.15.11//NONSGML v1.0//EN
CALSCALE:GREGORIAN
METHOD:PUBLISH
X-ORIGINAL-URL:https://themovecollective.org
X-WR-CALDESC:Events for The Move Collective
REFRESH-INTERVAL;VALUE=DURATION:PT1H
X-Robots-Tag:noindex
X-PUBLISHED-TTL:PT1H
BEGIN:VTIMEZONE
TZID:America/Toronto
BEGIN:DAYLIGHT
TZOFFSETFROM:-0500
TZOFFSETTO:-0400
TZNAME:EDT
DTSTART:20240310T070000
END:DAYLIGHT
BEGIN:STANDARD
TZOFFSETFROM:-0400
TZOFFSETTO:-0500
TZNAME:EST
DTSTART:20241103T060000
END:STANDARD
BEGIN:DAYLIGHT
TZOFFSETFROM:-0500
TZOFFSETTO:-0400
TZNAME:EDT
DTSTART:20250309T070000
END:DAYLIGHT
BEGIN:STANDARD
TZOFFSETFROM:-0400
TZOFFSETTO:-0500
TZNAME:EST
DTSTART:20251102T060000
END:STANDARD
BEGIN:DAYLIGHT
TZOFFSETFROM:-0500
TZOFFSETTO:-0400
TZNAME:EDT
DTSTART:20260308T070000
END:DAYLIGHT
BEGIN:STANDARD
TZOFFSETFROM:-0400
TZOFFSETTO:-0500
TZNAME:EST
DTSTART:20261101T060000
END:STANDARD
END:VTIMEZONE
BEGIN:VEVENT
DTSTART;TZID=America/Toronto:20250103T193000
DTEND;TZID=America/Toronto:20250103T213000
DTSTAMP:20260420T103258
CREATED:20241228T221341Z
LAST-MODIFIED:20241228T221341Z
UID:2892-1735932600-1735939800@themovecollective.org
SUMMARY:DJ Sara/Ferenc
DESCRIPTION:Join DJ duo Sara/Ferenc for the first Move of the new year! Dovercourt House\, 3rd floor.
URL:https://themovecollective.org/event/dj-sara-ferenc/
CATEGORIES:Dance Events,The Move
END:VEVENT
BEGIN:VEVENT
DTSTART;TZID=America/Toronto:20250106T193000
DTEND;TZID=America/Toronto:20250106T213000
DTSTAMP:20260420T103258
CREATED:20241228T221435Z
LAST-MODIFIED:20241228T221435Z
UID:2894-1736191800-1736199000@themovecollective.org
SUMMARY:DJ Sarah J
DESCRIPTION:Join DJ Sarah J this week at The Monday Move! Dovercourt House\, 3rd floor.
URL:https://themovecollective.org/event/dj-sarah-j-18/
CATEGORIES:Dance Events,The Move
END:VEVENT
BEGIN:VEVENT
DTSTART;TZID=America/Toronto:20250110T193000
DTEND;TZID=America/Toronto:20250110T220000
DTSTAMP:20260420T103258
CREATED:20241228T221627Z
LAST-MODIFIED:20241228T221627Z
UID:2896-1736537400-1736546400@themovecollective.org
SUMMARY:DJ Ariel and monthly community potluck!
DESCRIPTION:Join DJ Ariel this Friday at The Move! Stay after the dance for our monthly community potluck. Bring some tasty treats to share with your fellow dancers! Dovercourt House\, 3rd floor.
URL:https://themovecollective.org/event/dj-ariel-and-monthly-community-potluck/
CATEGORIES:Community Potluck,Dance Events,The Move
END:VEVENT
BEGIN:VEVENT
DTSTART;TZID=America/Toronto:20250113T193000
DTEND;TZID=America/Toronto:20250113T213000
DTSTAMP:20260420T103258
CREATED:20241228T221712Z
LAST-MODIFIED:20241228T221712Z
UID:2898-1736796600-1736803800@themovecollective.org
SUMMARY:DJ Twyla
DESCRIPTION:Join DJ Twyla this week at The Monday Move! Dovercourt House\, 3rd floor.
URL:https://themovecollective.org/event/dj-twyla-42/
CATEGORIES:Dance Events,The Move
END:VEVENT
BEGIN:VEVENT
DTSTART;TZID=America/Toronto:20250117T193000
DTEND;TZID=America/Toronto:20250117T213000
DTSTAMP:20260420T103258
CREATED:20241228T221800Z
LAST-MODIFIED:20241228T221800Z
UID:2900-1737142200-1737149400@themovecollective.org
SUMMARY:DJ Ferenc
DESCRIPTION:Join DJ Ferenc this Friday at The Move! Dovercourt House\, 3rd floor.
URL:https://themovecollective.org/event/dj-ferenc-51/
CATEGORIES:Dance Events,The Move
END:VEVENT
BEGIN:VEVENT
DTSTART;TZID=America/Toronto:20250120T193000
DTEND;TZID=America/Toronto:20250120T213000
DTSTAMP:20260420T103258
CREATED:20241228T221842Z
LAST-MODIFIED:20250115T222719Z
UID:2902-1737401400-1737408600@themovecollective.org
SUMMARY:DJ Ferenc
DESCRIPTION:Join DJ Ferenc this week at The Monday Move! Dovercourt House\, 3rd floor.
URL:https://themovecollective.org/event/dj-frank-10/
CATEGORIES:Dance Events,The Move
END:VEVENT
BEGIN:VEVENT
DTSTART;TZID=America/Toronto:20250124T193000
DTEND;TZID=America/Toronto:20250124T213000
DTSTAMP:20260420T103258
CREATED:20241228T221932Z
LAST-MODIFIED:20241228T221932Z
UID:2904-1737747000-1737754200@themovecollective.org
SUMMARY:DJ Michael P
DESCRIPTION:Join DJ Michael P this Friday at The Move! Dovercourt House\, 3rd floor.
URL:https://themovecollective.org/event/dj-michael-p-58/
CATEGORIES:Dance Events,The Move
END:VEVENT
BEGIN:VEVENT
DTSTART;TZID=America/Toronto:20250127T193000
DTEND;TZID=America/Toronto:20250127T213000
DTSTAMP:20260420T103258
CREATED:20250115T222830Z
LAST-MODIFIED:20250115T222830Z
UID:2908-1738006200-1738013400@themovecollective.org
SUMMARY:DJ Frank
DESCRIPTION:Join DJ Frank this week at The Monday Move! Dovercourt House\, 3rd floor.
URL:https://themovecollective.org/event/dj-frank-11/
CATEGORIES:Dance Events,The Move
END:VEVENT
BEGIN:VEVENT
DTSTART;TZID=America/Toronto:20250131T193000
DTEND;TZID=America/Toronto:20250131T213000
DTSTAMP:20260420T103258
CREATED:20250121T222254Z
LAST-MODIFIED:20250121T222254Z
UID:2912-1738351800-1738359000@themovecollective.org
SUMMARY:DJ Sarah J
DESCRIPTION:Join DJ Sarah J this Friday at The Move! Dovercourt House\, 3rd floor.
URL:https://themovecollective.org/event/dj-sarah-j-19/
CATEGORIES:Dance Events,The Move
END:VEVENT
END:VCALENDAR