BEGIN:VCALENDAR
VERSION:2.0
PRODID:-//The Move Collective - ECPv6.15.11//NONSGML v1.0//EN
CALSCALE:GREGORIAN
METHOD:PUBLISH
X-ORIGINAL-URL:https://themovecollective.org
X-WR-CALDESC:Events for The Move Collective
REFRESH-INTERVAL;VALUE=DURATION:PT1H
X-Robots-Tag:noindex
X-PUBLISHED-TTL:PT1H
BEGIN:VTIMEZONE
TZID:America/Toronto
BEGIN:DAYLIGHT
TZOFFSETFROM:-0500
TZOFFSETTO:-0400
TZNAME:EDT
DTSTART:20240310T070000
END:DAYLIGHT
BEGIN:STANDARD
TZOFFSETFROM:-0400
TZOFFSETTO:-0500
TZNAME:EST
DTSTART:20241103T060000
END:STANDARD
BEGIN:DAYLIGHT
TZOFFSETFROM:-0500
TZOFFSETTO:-0400
TZNAME:EDT
DTSTART:20250309T070000
END:DAYLIGHT
BEGIN:STANDARD
TZOFFSETFROM:-0400
TZOFFSETTO:-0500
TZNAME:EST
DTSTART:20251102T060000
END:STANDARD
BEGIN:DAYLIGHT
TZOFFSETFROM:-0500
TZOFFSETTO:-0400
TZNAME:EDT
DTSTART:20260308T070000
END:DAYLIGHT
BEGIN:STANDARD
TZOFFSETFROM:-0400
TZOFFSETTO:-0500
TZNAME:EST
DTSTART:20261101T060000
END:STANDARD
END:VTIMEZONE
BEGIN:VEVENT
DTSTART;TZID=America/Toronto:20250203T193000
DTEND;TZID=America/Toronto:20250203T213000
DTSTAMP:20260420T090206
CREATED:20250121T222349Z
LAST-MODIFIED:20250121T222349Z
UID:2914-1738611000-1738618200@themovecollective.org
SUMMARY:DJ duo Sara/Ferenc
DESCRIPTION:Join DJ duo Sara/Ferenc this week at The Monday Move! Dovercourt House\, 3rd floor.
URL:https://themovecollective.org/event/dj-duo-sara-ferenc-3/
CATEGORIES:Dance Events,The Move
END:VEVENT
BEGIN:VEVENT
DTSTART;TZID=America/Toronto:20250207T193000
DTEND;TZID=America/Toronto:20250207T213000
DTSTAMP:20260420T090206
CREATED:20250121T222447Z
LAST-MODIFIED:20250206T015211Z
UID:2916-1738956600-1738963800@themovecollective.org
SUMMARY:DJ Ariel
DESCRIPTION:Join DJ Ariel this Friday at The Move! Dovercourt House\, 3rd floor.
URL:https://themovecollective.org/event/dj-twyla-43/
CATEGORIES:Dance Events,The Move
END:VEVENT
BEGIN:VEVENT
DTSTART;TZID=America/Toronto:20250210T193000
DTEND;TZID=America/Toronto:20250210T213000
DTSTAMP:20260420T090206
CREATED:20250121T222555Z
LAST-MODIFIED:20250121T222555Z
UID:2918-1739215800-1739223000@themovecollective.org
SUMMARY:DJ Ferenc
DESCRIPTION:Join DJ Ferenc this week at The Monday Move! Dovercourt House\, 3rd floor.
URL:https://themovecollective.org/event/dj-ferenc-52/
CATEGORIES:Dance Events,The Move
END:VEVENT
BEGIN:VEVENT
DTSTART;TZID=America/Toronto:20250214T193000
DTEND;TZID=America/Toronto:20250214T223000
DTSTAMP:20260420T090206
CREATED:20250121T222712Z
LAST-MODIFIED:20250121T223439Z
UID:2920-1739561400-1739572200@themovecollective.org
SUMMARY:DJ Goldiloxx + Community Potluck
DESCRIPTION:Join DJ Goldiloxx this Friday at The Move! Stay after the dance for our monthly community potluck. Dovercourt House\, 3rd floor.
URL:https://themovecollective.org/event/dj-goldiloxx-14/
CATEGORIES:Community Potluck,Dance Events,The Move
END:VEVENT
BEGIN:VEVENT
DTSTART;TZID=America/Toronto:20250217T193000
DTEND;TZID=America/Toronto:20250217T213000
DTSTAMP:20260420T090206
CREATED:20250121T222804Z
LAST-MODIFIED:20250121T222804Z
UID:2922-1739820600-1739827800@themovecollective.org
SUMMARY:DJ Michael P
DESCRIPTION:Join DJ Michael P this week at The Monday Move! Dovercourt House\, 3rd floor.
URL:https://themovecollective.org/event/dj-michael-p-59/
CATEGORIES:Dance Events,The Move
END:VEVENT
BEGIN:VEVENT
DTSTART;TZID=America/Toronto:20250221T193000
DTEND;TZID=America/Toronto:20250221T213000
DTSTAMP:20260420T090206
CREATED:20250121T222900Z
LAST-MODIFIED:20250121T222900Z
UID:2924-1740166200-1740173400@themovecollective.org
SUMMARY:DJ Ariel
DESCRIPTION:Join DJ Ariel this Friday at The Move! Dovercourt House\, 3rd floor.
URL:https://themovecollective.org/event/dj-ariel-57/
CATEGORIES:Dance Events,The Move
END:VEVENT
BEGIN:VEVENT
DTSTART;TZID=America/Toronto:20250224T193000
DTEND;TZID=America/Toronto:20250224T213000
DTSTAMP:20260420T090206
CREATED:20250121T222946Z
LAST-MODIFIED:20250121T222946Z
UID:2926-1740425400-1740432600@themovecollective.org
SUMMARY:DJ Sarah J
DESCRIPTION:Join DJ Sarah J this week at The Monday Move! Dovercourt House\, 3rd floor.
URL:https://themovecollective.org/event/dj-sarah-j-20/
CATEGORIES:Dance Events,The Move
END:VEVENT
BEGIN:VEVENT
DTSTART;TZID=America/Toronto:20250228T193000
DTEND;TZID=America/Toronto:20250228T213000
DTSTAMP:20260420T090206
CREATED:20250121T223051Z
LAST-MODIFIED:20250121T223051Z
UID:2928-1740771000-1740778200@themovecollective.org
SUMMARY:DJ Michael P
DESCRIPTION:Join DJ Michael P this Friday at The Move! Dovercourt House\, 3rd floor.
URL:https://themovecollective.org/event/dj-michael-p-60/
CATEGORIES:Dance Events,The Move
END:VEVENT
END:VCALENDAR