BEGIN:VCALENDAR
VERSION:2.0
PRODID:-//The Move Collective - ECPv6.15.11//NONSGML v1.0//EN
CALSCALE:GREGORIAN
METHOD:PUBLISH
X-WR-CALNAME:The Move Collective
X-ORIGINAL-URL:https://themovecollective.org
X-WR-CALDESC:Events for The Move Collective
REFRESH-INTERVAL;VALUE=DURATION:PT1H
X-Robots-Tag:noindex
X-PUBLISHED-TTL:PT1H
BEGIN:VTIMEZONE
TZID:America/Toronto
BEGIN:DAYLIGHT
TZOFFSETFROM:-0500
TZOFFSETTO:-0400
TZNAME:EDT
DTSTART:20240310T070000
END:DAYLIGHT
BEGIN:STANDARD
TZOFFSETFROM:-0400
TZOFFSETTO:-0500
TZNAME:EST
DTSTART:20241103T060000
END:STANDARD
BEGIN:DAYLIGHT
TZOFFSETFROM:-0500
TZOFFSETTO:-0400
TZNAME:EDT
DTSTART:20250309T070000
END:DAYLIGHT
BEGIN:STANDARD
TZOFFSETFROM:-0400
TZOFFSETTO:-0500
TZNAME:EST
DTSTART:20251102T060000
END:STANDARD
BEGIN:DAYLIGHT
TZOFFSETFROM:-0500
TZOFFSETTO:-0400
TZNAME:EDT
DTSTART:20260308T070000
END:DAYLIGHT
BEGIN:STANDARD
TZOFFSETFROM:-0400
TZOFFSETTO:-0500
TZNAME:EST
DTSTART:20261101T060000
END:STANDARD
END:VTIMEZONE
BEGIN:VEVENT
DTSTART;TZID=America/Toronto:20250404T193000
DTEND;TZID=America/Toronto:20250404T213000
DTSTAMP:20260420T055835
CREATED:20250404T025810Z
LAST-MODIFIED:20250404T025810Z
UID:2957-1743795000-1743802200@themovecollective.org
SUMMARY:DJ Michael P
DESCRIPTION:Join DJ Michael P this Friday at The Move! 805 Dovercourt\, 3rd floor.
URL:https://themovecollective.org/event/dj-michael-p-61/
CATEGORIES:Dance Events,The Move
END:VEVENT
BEGIN:VEVENT
DTSTART;TZID=America/Toronto:20250407T193000
DTEND;TZID=America/Toronto:20250407T213000
DTSTAMP:20260420T055835
CREATED:20250404T025907Z
LAST-MODIFIED:20250404T025907Z
UID:2959-1744054200-1744061400@themovecollective.org
SUMMARY:DJ duo Sara/Ferenc
DESCRIPTION:Join DJ duo Sara/Ferenc this week at The Monday Move! 805 Dovercourt\, 3rd floor.
URL:https://themovecollective.org/event/dj-duo-sara-ferenc-5/
CATEGORIES:Dance Events,The Move
END:VEVENT
BEGIN:VEVENT
DTSTART;TZID=America/Toronto:20250411T193000
DTEND;TZID=America/Toronto:20250411T223000
DTSTAMP:20260420T055835
CREATED:20250404T030102Z
LAST-MODIFIED:20250404T030102Z
UID:2961-1744399800-1744410600@themovecollective.org
SUMMARY:DJ Ferenc and The Move's 22nd birthday celebration!
DESCRIPTION:Join DJ Ferenc this Friday for the 22nd anniversary of The Move! Stay after the dance for our monthly potluck and birthday party! 805 Dovercourt\, 3rd floor.
URL:https://themovecollective.org/event/dj-ferenc-and-the-moves-22nd-birthday-celebration/
CATEGORIES:Community Potluck,Dance Events,The Move
END:VEVENT
BEGIN:VEVENT
DTSTART;TZID=America/Toronto:20250414T193000
DTEND;TZID=America/Toronto:20250414T213000
DTSTAMP:20260420T055835
CREATED:20250409T001245Z
LAST-MODIFIED:20250409T001245Z
UID:2963-1744659000-1744666200@themovecollective.org
SUMMARY:DJ Twyla
DESCRIPTION:Join DJ Twyla this week at The Monday Move! 805 Dovercourt\, 3rd floor.
URL:https://themovecollective.org/event/dj-twyla-46/
CATEGORIES:Dance Events,The Move
END:VEVENT
BEGIN:VEVENT
DTSTART;TZID=America/Toronto:20250418T193000
DTEND;TZID=America/Toronto:20250418T213000
DTSTAMP:20260420T055835
CREATED:20250409T001338Z
LAST-MODIFIED:20250409T001338Z
UID:2965-1745004600-1745011800@themovecollective.org
SUMMARY:DJ Sarah J
DESCRIPTION:Join DJ Sarah J this Friday at The Move! 805 Dovercourt\, 3rd floor.
URL:https://themovecollective.org/event/dj-sarah-j-22/
CATEGORIES:Dance Events,The Move
END:VEVENT
BEGIN:VEVENT
DTSTART;TZID=America/Toronto:20250421T193000
DTEND;TZID=America/Toronto:20250421T213000
DTSTAMP:20260420T055835
CREATED:20250409T001416Z
LAST-MODIFIED:20250409T001416Z
UID:2967-1745263800-1745271000@themovecollective.org
SUMMARY:DJ Ferenc
DESCRIPTION:Join DJ Ferenc this week at The Monday Move! 805 Dovercourt\, 3rd floor.
URL:https://themovecollective.org/event/dj-ferenc-55/
CATEGORIES:Dance Events,The Move
END:VEVENT
BEGIN:VEVENT
DTSTART;TZID=America/Toronto:20250425T193000
DTEND;TZID=America/Toronto:20250425T213000
DTSTAMP:20260420T055835
CREATED:20250409T001501Z
LAST-MODIFIED:20250409T001501Z
UID:2969-1745609400-1745616600@themovecollective.org
SUMMARY:DJ Ariel
DESCRIPTION:Join DJ Ariel this Friday at The Move! 805 Dovercourt\, 3rd floor.
URL:https://themovecollective.org/event/dj-ariel-59/
CATEGORIES:Dance Events,The Move
END:VEVENT
BEGIN:VEVENT
DTSTART;TZID=America/Toronto:20250428T193000
DTEND;TZID=America/Toronto:20250428T213000
DTSTAMP:20260420T055835
CREATED:20250409T001546Z
LAST-MODIFIED:20250409T001546Z
UID:2971-1745868600-1745875800@themovecollective.org
SUMMARY:DJ Michael P
DESCRIPTION:Join DJ Michael P this week at The Monday Move! 805 Dovercourt\, 3rd floor.
URL:https://themovecollective.org/event/dj-michael-p-62/
CATEGORIES:Dance Events,The Move
END:VEVENT
END:VCALENDAR