BEGIN:VCALENDAR
VERSION:2.0
PRODID:-//The Move Collective - ECPv6.15.11//NONSGML v1.0//EN
CALSCALE:GREGORIAN
METHOD:PUBLISH
X-WR-CALNAME:The Move Collective
X-ORIGINAL-URL:https://themovecollective.org
X-WR-CALDESC:Events for The Move Collective
REFRESH-INTERVAL;VALUE=DURATION:PT1H
X-Robots-Tag:noindex
X-PUBLISHED-TTL:PT1H
BEGIN:VTIMEZONE
TZID:America/Toronto
BEGIN:DAYLIGHT
TZOFFSETFROM:-0500
TZOFFSETTO:-0400
TZNAME:EDT
DTSTART:20240310T070000
END:DAYLIGHT
BEGIN:STANDARD
TZOFFSETFROM:-0400
TZOFFSETTO:-0500
TZNAME:EST
DTSTART:20241103T060000
END:STANDARD
BEGIN:DAYLIGHT
TZOFFSETFROM:-0500
TZOFFSETTO:-0400
TZNAME:EDT
DTSTART:20250309T070000
END:DAYLIGHT
BEGIN:STANDARD
TZOFFSETFROM:-0400
TZOFFSETTO:-0500
TZNAME:EST
DTSTART:20251102T060000
END:STANDARD
BEGIN:DAYLIGHT
TZOFFSETFROM:-0500
TZOFFSETTO:-0400
TZNAME:EDT
DTSTART:20260308T070000
END:DAYLIGHT
BEGIN:STANDARD
TZOFFSETFROM:-0400
TZOFFSETTO:-0500
TZNAME:EST
DTSTART:20261101T060000
END:STANDARD
END:VTIMEZONE
BEGIN:VEVENT
DTSTART;TZID=America/Toronto:20250502T193000
DTEND;TZID=America/Toronto:20250502T213000
DTSTAMP:20260420T042631
CREATED:20250409T001623Z
LAST-MODIFIED:20250409T001623Z
UID:2973-1746214200-1746221400@themovecollective.org
SUMMARY:DJ Twyla
DESCRIPTION:Join DJ Twyla this Friday at The Move! 805 Dovercourt\, 3rd floor.
URL:https://themovecollective.org/event/dj-twyla-47/
CATEGORIES:Dance Events,The Move
END:VEVENT
BEGIN:VEVENT
DTSTART;TZID=America/Toronto:20250505T193000
DTEND;TZID=America/Toronto:20250505T213000
DTSTAMP:20260420T042631
CREATED:20250409T001710Z
LAST-MODIFIED:20250409T001710Z
UID:2975-1746473400-1746480600@themovecollective.org
SUMMARY:DJ duo Sara/Ferenc
DESCRIPTION:Join DJ duo Sara/Ferenc this week at The Monday Move! 805 Dovercourt\, 3rd floor.
URL:https://themovecollective.org/event/dj-duo-sara-ferenc-6/
CATEGORIES:Dance Events,The Move
END:VEVENT
BEGIN:VEVENT
DTSTART;TZID=America/Toronto:20250509T193000
DTEND;TZID=America/Toronto:20250509T220000
DTSTAMP:20260420T042631
CREATED:20250409T001818Z
LAST-MODIFIED:20250409T001818Z
UID:2977-1746819000-1746828000@themovecollective.org
SUMMARY:DJ Ariel and monthly potluck!
DESCRIPTION:Join DJ Ariel this Friday at The Move! Stay after the dance for our monthly potluck – bring a tasty treat to share with your fellow dancers! 805 Dovercourt\, 3rd floor.
URL:https://themovecollective.org/event/dj-ariel-and-monthly-potluck-2/
CATEGORIES:Community Potluck,Dance Events,The Move
END:VEVENT
BEGIN:VEVENT
DTSTART;TZID=America/Toronto:20250512T193000
DTEND;TZID=America/Toronto:20250512T213000
DTSTAMP:20260420T042631
CREATED:20250409T001857Z
LAST-MODIFIED:20250409T001857Z
UID:2979-1747078200-1747085400@themovecollective.org
SUMMARY:DJ Sarah J
DESCRIPTION:Join DJ Sarah J this week at The Monday Move! 805 Dovercourt\, 3rd floor.
URL:https://themovecollective.org/event/dj-sarah-j-23/
CATEGORIES:Dance Events,The Move
END:VEVENT
BEGIN:VEVENT
DTSTART;TZID=America/Toronto:20250516T193000
DTEND;TZID=America/Toronto:20250516T213000
DTSTAMP:20260420T042631
CREATED:20250409T001939Z
LAST-MODIFIED:20250409T001939Z
UID:2981-1747423800-1747431000@themovecollective.org
SUMMARY:DJ Frank
DESCRIPTION:Join DJ Frank this Friday at The Move! 805 Dovercourt\, 3rd floor.
URL:https://themovecollective.org/event/dj-frank-13/
CATEGORIES:Dance Events,The Move
END:VEVENT
BEGIN:VEVENT
DTSTART;TZID=America/Toronto:20250519T193000
DTEND;TZID=America/Toronto:20250519T213000
DTSTAMP:20260420T042631
CREATED:20250409T002018Z
LAST-MODIFIED:20250409T002018Z
UID:2983-1747683000-1747690200@themovecollective.org
SUMMARY:DJ Michael P
DESCRIPTION:Join DJ Michael P this week at The Monday Move! 805 Dovercourt\, 3rd floor.
URL:https://themovecollective.org/event/dj-michael-p-63/
CATEGORIES:Dance Events,The Move
END:VEVENT
BEGIN:VEVENT
DTSTART;TZID=America/Toronto:20250523T193000
DTEND;TZID=America/Toronto:20250523T213000
DTSTAMP:20260420T042631
CREATED:20250409T002103Z
LAST-MODIFIED:20250409T002103Z
UID:2985-1748028600-1748035800@themovecollective.org
SUMMARY:DJ Goldiloxx
DESCRIPTION:Join DJ Goldiloxx this Friday at The Move! 805 Dovercourt\, 3rd floor.
URL:https://themovecollective.org/event/dj-goldiloxx-16/
CATEGORIES:Dance Events,The Move
END:VEVENT
BEGIN:VEVENT
DTSTART;TZID=America/Toronto:20250526T193000
DTEND;TZID=America/Toronto:20250526T213000
DTSTAMP:20260420T042631
CREATED:20250409T002135Z
LAST-MODIFIED:20250409T002135Z
UID:2987-1748287800-1748295000@themovecollective.org
SUMMARY:DJ Ferenc
DESCRIPTION:Join DJ Ferenc this week at The Monday Move! 805 Dovercourt\, 3rd floor.
URL:https://themovecollective.org/event/dj-ferenc-56/
CATEGORIES:Dance Events,The Move
END:VEVENT
BEGIN:VEVENT
DTSTART;TZID=America/Toronto:20250530T193000
DTEND;TZID=America/Toronto:20250530T213000
DTSTAMP:20260420T042631
CREATED:20250409T002221Z
LAST-MODIFIED:20250409T002221Z
UID:2989-1748633400-1748640600@themovecollective.org
SUMMARY:DJ Michael P
DESCRIPTION:Join DJ Michael P this Friday at The Move! 805 Dovercourt\, 3rd floor.
URL:https://themovecollective.org/event/dj-michael-p-64/
CATEGORIES:Dance Events,The Move
END:VEVENT
END:VCALENDAR