BEGIN:VCALENDAR
VERSION:2.0
PRODID:-//The Move Collective - ECPv6.15.11//NONSGML v1.0//EN
CALSCALE:GREGORIAN
METHOD:PUBLISH
X-WR-CALNAME:The Move Collective
X-ORIGINAL-URL:https://themovecollective.org
X-WR-CALDESC:Events for The Move Collective
REFRESH-INTERVAL;VALUE=DURATION:PT1H
X-Robots-Tag:noindex
X-PUBLISHED-TTL:PT1H
BEGIN:VTIMEZONE
TZID:America/Toronto
BEGIN:DAYLIGHT
TZOFFSETFROM:-0500
TZOFFSETTO:-0400
TZNAME:EDT
DTSTART:20160313T070000
END:DAYLIGHT
BEGIN:STANDARD
TZOFFSETFROM:-0400
TZOFFSETTO:-0500
TZNAME:EST
DTSTART:20161106T060000
END:STANDARD
BEGIN:DAYLIGHT
TZOFFSETFROM:-0500
TZOFFSETTO:-0400
TZNAME:EDT
DTSTART:20170312T070000
END:DAYLIGHT
BEGIN:STANDARD
TZOFFSETFROM:-0400
TZOFFSETTO:-0500
TZNAME:EST
DTSTART:20171105T060000
END:STANDARD
BEGIN:DAYLIGHT
TZOFFSETFROM:-0500
TZOFFSETTO:-0400
TZNAME:EDT
DTSTART:20180311T070000
END:DAYLIGHT
BEGIN:STANDARD
TZOFFSETFROM:-0400
TZOFFSETTO:-0500
TZNAME:EST
DTSTART:20181104T060000
END:STANDARD
BEGIN:DAYLIGHT
TZOFFSETFROM:-0500
TZOFFSETTO:-0400
TZNAME:EDT
DTSTART:20190310T070000
END:DAYLIGHT
BEGIN:STANDARD
TZOFFSETFROM:-0400
TZOFFSETTO:-0500
TZNAME:EST
DTSTART:20191103T060000
END:STANDARD
END:VTIMEZONE
BEGIN:VEVENT
DTSTART;TZID=America/Toronto:20180223T192000
DTEND;TZID=America/Toronto:20180223T213000
DTSTAMP:20260422T073740
CREATED:20180101T194149Z
LAST-MODIFIED:20180101T194603Z
UID:1324-1519413600-1519421400@themovecollective.org
SUMMARY:DJ VALERIE
DESCRIPTION:Join DJ Valerie for our weekly Move.
URL:https://themovecollective.org/event/dj-valerie-14/
LOCATION:Dovercourt House\, 2nd Floor\, 805 Dovercourt Road\, Toronto\, Ontario\, Canada
CATEGORIES:Dance Events
END:VEVENT
BEGIN:VEVENT
DTSTART;TZID=America/Toronto:20180216T192000
DTEND;TZID=America/Toronto:20180216T213000
DTSTAMP:20260422T073740
CREATED:20180101T194024Z
LAST-MODIFIED:20180101T194024Z
UID:1322-1518808800-1518816600@themovecollective.org
SUMMARY:DJ ARIEL
DESCRIPTION:Join DJ Ariel for our weekly Move.
URL:https://themovecollective.org/event/dj-ariel-19/
LOCATION:Dovercourt House\, 2nd Floor\, 805 Dovercourt Road\, Toronto\, Ontario\, Canada
CATEGORIES:Dance Events
END:VEVENT
BEGIN:VEVENT
DTSTART;TZID=America/Toronto:20180209T192000
DTEND;TZID=America/Toronto:20180209T221500
DTSTAMP:20260422T073740
CREATED:20180101T193800Z
LAST-MODIFIED:20180101T193800Z
UID:1320-1518204000-1518214500@themovecollective.org
SUMMARY:DJ F-ERENC & THE COMMUNITY POTLUCK
DESCRIPTION:Join DJ F-erenc for our weekly Move. \nStick around after for the monthly community potluck and share some snacks with our vibrant community.  9:30 to 10:15pm
URL:https://themovecollective.org/event/dj-f-erenc-the-community-potluck-2/
LOCATION:Dovercourt House\, 2nd Floor\, 805 Dovercourt Road\, Toronto\, Ontario\, Canada
CATEGORIES:Community Potluck,Dance Events
END:VEVENT
BEGIN:VEVENT
DTSTART;TZID=America/Toronto:20180202T192000
DTEND;TZID=America/Toronto:20180202T213000
DTSTAMP:20260422T073740
CREATED:20180101T193639Z
LAST-MODIFIED:20180101T193639Z
UID:1318-1517599200-1517607000@themovecollective.org
SUMMARY:DJ MICHAEL P
DESCRIPTION:Join DJ Michael P for our weekly Move
URL:https://themovecollective.org/event/dj-michael-p-14/
LOCATION:Dovercourt House\, 2nd Floor\, 805 Dovercourt Road\, Toronto\, Ontario\, Canada
CATEGORIES:Dance Events
END:VEVENT
BEGIN:VEVENT
DTSTART;TZID=America/Toronto:20180126T192000
DTEND;TZID=America/Toronto:20180126T213000
DTSTAMP:20260422T073740
CREATED:20180101T193413Z
LAST-MODIFIED:20180101T193413Z
UID:1316-1516994400-1517002200@themovecollective.org
SUMMARY:DJ VALERIE
DESCRIPTION:Join DJ Valerie for our weekly Move.
URL:https://themovecollective.org/event/dj-valerie-13/
LOCATION:Dovercourt House\, 2nd Floor\, 805 Dovercourt Road\, Toronto\, Ontario\, Canada
CATEGORIES:Dance Events
END:VEVENT
BEGIN:VEVENT
DTSTART;TZID=America/Toronto:20180119T192000
DTEND;TZID=America/Toronto:20180119T213000
DTSTAMP:20260422T073740
CREATED:20180101T193258Z
LAST-MODIFIED:20180101T193258Z
UID:1314-1516389600-1516397400@themovecollective.org
SUMMARY:DJ ARIEL
DESCRIPTION:Join DJ Ariel for our weekly Move. \n 
URL:https://themovecollective.org/event/dj-ariel-18/
LOCATION:Dovercourt House\, 2nd Floor\, 805 Dovercourt Road\, Toronto\, Ontario\, Canada
CATEGORIES:Dance Events
END:VEVENT
BEGIN:VEVENT
DTSTART;TZID=America/Toronto:20180112T192000
DTEND;TZID=America/Toronto:20180112T221500
DTSTAMP:20260422T073740
CREATED:20180101T193022Z
LAST-MODIFIED:20180101T193048Z
UID:1312-1515784800-1515795300@themovecollective.org
SUMMARY:DJ TWYLA & THE COMMUNITY POTLUCK
DESCRIPTION:Join DJ Twyla for our weekly Move. \nStick around after for the monthly community potluck and share some snacks with our vibrant community.  9:30 to 10:15pm
URL:https://themovecollective.org/event/dj-twyla-the-community-potluck-2/
LOCATION:Dovercourt House\, 2nd Floor\, 805 Dovercourt Road\, Toronto\, Ontario\, Canada
CATEGORIES:Community Potluck,Dance Events
END:VEVENT
BEGIN:VEVENT
DTSTART;TZID=America/Toronto:20180105T192000
DTEND;TZID=America/Toronto:20180105T213000
DTSTAMP:20260422T073740
CREATED:20180101T192738Z
LAST-MODIFIED:20180101T192738Z
UID:1310-1515180000-1515187800@themovecollective.org
SUMMARY:DJ GREGORY
DESCRIPTION:Join DJ Gregory for our weekly Move.
URL:https://themovecollective.org/event/dj-gregory-2/
LOCATION:Dovercourt House\, 2nd Floor\, 805 Dovercourt Road\, Toronto\, Ontario\, Canada
CATEGORIES:Dance Events
END:VEVENT
BEGIN:VEVENT
DTSTART;TZID=America/Toronto:20171229T192000
DTEND;TZID=America/Toronto:20171229T213000
DTSTAMP:20260422T073740
CREATED:20170927T033916Z
LAST-MODIFIED:20170927T033916Z
UID:1297-1514575200-1514583000@themovecollective.org
SUMMARY:DJ F-ERENC
DESCRIPTION:Join DJ F-erenc for our weekly Move.
URL:https://themovecollective.org/event/dj-f-erenc-4/
LOCATION:Dovercourt House\, 2nd Floor\, 805 Dovercourt Road\, Toronto\, Ontario\, Canada
CATEGORIES:Dance Events
END:VEVENT
BEGIN:VEVENT
DTSTART;TZID=America/Toronto:20171222T192000
DTEND;TZID=America/Toronto:20171222T213000
DTSTAMP:20260422T073740
CREATED:20170927T033759Z
LAST-MODIFIED:20170927T033759Z
UID:1295-1513970400-1513978200@themovecollective.org
SUMMARY:DJ MICHAEL P
DESCRIPTION:Join DJ Michael P for our weekly Move.
URL:https://themovecollective.org/event/dj-michael-p-13/
LOCATION:Dovercourt House\, 2nd Floor\, 805 Dovercourt Road\, Toronto\, Ontario\, Canada
CATEGORIES:Dance Events
END:VEVENT
BEGIN:VEVENT
DTSTART;TZID=America/Toronto:20171215T192000
DTEND;TZID=America/Toronto:20171215T213000
DTSTAMP:20260422T073740
CREATED:20170927T033637Z
LAST-MODIFIED:20170927T033637Z
UID:1293-1513365600-1513373400@themovecollective.org
SUMMARY:DJ MICHAEL H
DESCRIPTION:Join DJ Michael H for our weekly Move.
URL:https://themovecollective.org/event/dj-michael-h-2/
LOCATION:Dovercourt House\, 2nd Floor\, 805 Dovercourt Road\, Toronto\, Ontario\, Canada
CATEGORIES:Dance Events
END:VEVENT
BEGIN:VEVENT
DTSTART;TZID=America/Toronto:20171208T192000
DTEND;TZID=America/Toronto:20171208T221500
DTSTAMP:20260422T073740
CREATED:20170927T033322Z
LAST-MODIFIED:20170927T033322Z
UID:1290-1512760800-1512771300@themovecollective.org
SUMMARY:DJ GREGORY AND THE COMMUNITY POTLUCK
DESCRIPTION:Join DJ Gregory for our weekly Move. \nStick around after for the monthly community potluck and share some snacks with our vibrant community.  9:30 to 10:15pm
URL:https://themovecollective.org/event/dj-gregory-and-the-community-potluck/
LOCATION:Dovercourt House\, 2nd Floor\, 805 Dovercourt Road\, Toronto\, Ontario\, Canada
CATEGORIES:Community Potluck,Dance Events
END:VEVENT
BEGIN:VEVENT
DTSTART;TZID=America/Toronto:20171201T192000
DTEND;TZID=America/Toronto:20171201T213000
DTSTAMP:20260422T073740
CREATED:20170927T033135Z
LAST-MODIFIED:20170927T033135Z
UID:1288-1512156000-1512163800@themovecollective.org
SUMMARY:DJ VALERIE
DESCRIPTION:Join DJ Valerie for our weekly Move.
URL:https://themovecollective.org/event/dj-valerie-12/
LOCATION:Dovercourt House\, 2nd Floor\, 805 Dovercourt Road\, Toronto\, Ontario\, Canada
CATEGORIES:Dance Events
END:VEVENT
BEGIN:VEVENT
DTSTART;TZID=America/Toronto:20171124T192000
DTEND;TZID=America/Toronto:20171124T213000
DTSTAMP:20260422T073740
CREATED:20170927T032943Z
LAST-MODIFIED:20170927T032943Z
UID:1286-1511551200-1511559000@themovecollective.org
SUMMARY:DJ GAZANFER
DESCRIPTION:Join DJ Gazanfer for our weekly Move.
URL:https://themovecollective.org/event/dj-gazanfer-4/
LOCATION:Dovercourt House\, 2nd Floor\, 805 Dovercourt Road\, Toronto\, Ontario\, Canada
CATEGORIES:Dance Events
END:VEVENT
BEGIN:VEVENT
DTSTART;TZID=America/Toronto:20171117T192000
DTEND;TZID=America/Toronto:20171117T213000
DTSTAMP:20260422T073740
CREATED:20170927T032830Z
LAST-MODIFIED:20170927T032830Z
UID:1284-1510946400-1510954200@themovecollective.org
SUMMARY:DJ TWYLA
DESCRIPTION:Join DJ Twyla for our weekly Move.
URL:https://themovecollective.org/event/dj-twyla-7/
LOCATION:Dovercourt House\, 2nd Floor\, 805 Dovercourt Road\, Toronto\, Ontario\, Canada
CATEGORIES:Dance Events
END:VEVENT
BEGIN:VEVENT
DTSTART;TZID=America/Toronto:20171110T192000
DTEND;TZID=America/Toronto:20171110T221500
DTSTAMP:20260422T073740
CREATED:20170927T032654Z
LAST-MODIFIED:20170927T033407Z
UID:1282-1510341600-1510352100@themovecollective.org
SUMMARY:DJ ARIEL & THE COMMUNITY POTLUCK
DESCRIPTION:Join DJ Ariel for our weekly Move. \nStick around after for the monthly community potluck and share some snacks with our vibrant community.  9:30 to 10:15pm
URL:https://themovecollective.org/event/dj-ariel-17/
LOCATION:Dovercourt House\, 2nd Floor\, 805 Dovercourt Road\, Toronto\, Ontario\, Canada
CATEGORIES:Community Potluck,Dance Events
END:VEVENT
BEGIN:VEVENT
DTSTART;TZID=America/Toronto:20171103T192000
DTEND;TZID=America/Toronto:20171103T213000
DTSTAMP:20260422T073740
CREATED:20170927T032527Z
LAST-MODIFIED:20170927T032527Z
UID:1280-1509736800-1509744600@themovecollective.org
SUMMARY:DJ TWYLA
DESCRIPTION:Join DJ Twyla for our weekly Move.
URL:https://themovecollective.org/event/dj-twyla-6/
LOCATION:Dovercourt House\, 2nd Floor\, 805 Dovercourt Road\, Toronto\, Ontario\, Canada
CATEGORIES:Dance Events
END:VEVENT
BEGIN:VEVENT
DTSTART;TZID=America/Toronto:20171027T192000
DTEND;TZID=America/Toronto:20171027T213000
DTSTAMP:20260422T073740
CREATED:20170927T031850Z
LAST-MODIFIED:20170927T031912Z
UID:1277-1509132000-1509139800@themovecollective.org
SUMMARY:DJ MICHAEL P
DESCRIPTION:Join DJ Michael P for our weekly Move.
URL:https://themovecollective.org/event/michael-p/
LOCATION:Dovercourt House\, 2nd Floor\, 805 Dovercourt Road\, Toronto\, Ontario\, Canada
CATEGORIES:Dance Events
END:VEVENT
BEGIN:VEVENT
DTSTART;TZID=America/Toronto:20171020T192000
DTEND;TZID=America/Toronto:20171020T213000
DTSTAMP:20260422T073740
CREATED:20170927T031702Z
LAST-MODIFIED:20170927T031702Z
UID:1275-1508527200-1508535000@themovecollective.org
SUMMARY:DJ ARIEL
DESCRIPTION:Join DJ Ariel for our weekly Move.
URL:https://themovecollective.org/event/dj-ariel-16/
LOCATION:Dovercourt House\, 2nd Floor\, 805 Dovercourt Road\, Toronto\, Ontario\, Canada
CATEGORIES:Dance Events
END:VEVENT
BEGIN:VEVENT
DTSTART;TZID=America/Toronto:20171013T192000
DTEND;TZID=America/Toronto:20171013T221500
DTSTAMP:20260422T073740
CREATED:20170927T031532Z
LAST-MODIFIED:20170927T033436Z
UID:1273-1507922400-1507932900@themovecollective.org
SUMMARY:DJ Gregory & The Community Potluck
DESCRIPTION:Join DJ Gregory for our weekly Move. \nStick around after for the monthly community potluck and share some snacks with our vibrant community.  9:30 to 10:15pm
URL:https://themovecollective.org/event/dj-gregory-the-community-potluck-2/
LOCATION:Dovercourt House\, 2nd Floor\, 805 Dovercourt Road\, Toronto\, Ontario\, Canada
CATEGORIES:Community Potluck,Dance Events
END:VEVENT
BEGIN:VEVENT
DTSTART;TZID=America/Toronto:20171006T192000
DTEND;TZID=America/Toronto:20171006T213000
DTSTAMP:20260422T073740
CREATED:20170927T031110Z
LAST-MODIFIED:20170927T031110Z
UID:1271-1507317600-1507325400@themovecollective.org
SUMMARY:DJ VALERIE
DESCRIPTION:Join DJ Valerie for our weekly Move.
URL:https://themovecollective.org/event/dj-valerie-11/
LOCATION:Dovercourt House\, 2nd Floor\, 805 Dovercourt Road\, Toronto\, Ontario\, Canada
CATEGORIES:Dance Events
END:VEVENT
BEGIN:VEVENT
DTSTART;TZID=America/Toronto:20170929T192000
DTEND;TZID=America/Toronto:20170929T213000
DTSTAMP:20260422T073740
CREATED:20170628T000832Z
LAST-MODIFIED:20170927T024349Z
UID:1247-1506712800-1506720600@themovecollective.org
SUMMARY:DJ MICHAEL P
DESCRIPTION:Join DJ MICHAEL P for our weekly Move.
URL:https://themovecollective.org/event/dj-valerie-10/
LOCATION:Dovercourt House\, 2nd Floor\, 805 Dovercourt Road\, Toronto\, Ontario\, Canada
CATEGORIES:Dance Events
END:VEVENT
BEGIN:VEVENT
DTSTART;TZID=America/Toronto:20170922T192000
DTEND;TZID=America/Toronto:20170922T213000
DTSTAMP:20260422T073740
CREATED:20170628T000728Z
LAST-MODIFIED:20170628T000728Z
UID:1245-1506108000-1506115800@themovecollective.org
SUMMARY:DJ ROBBIE
DESCRIPTION:Join DJ Robbie for his farewell set at the Move.
URL:https://themovecollective.org/event/dj-robbie/
LOCATION:Dovercourt House\, 2nd Floor\, 805 Dovercourt Road\, Toronto\, Ontario\, Canada
CATEGORIES:Dance Events
END:VEVENT
BEGIN:VEVENT
DTSTART;TZID=America/Toronto:20170915T192000
DTEND;TZID=America/Toronto:20170915T213000
DTSTAMP:20260422T073740
CREATED:20170628T000601Z
LAST-MODIFIED:20170628T000601Z
UID:1243-1505503200-1505511000@themovecollective.org
SUMMARY:DJ GAZANFER
DESCRIPTION:Join DJ Gazanfer for our weekly Move.
URL:https://themovecollective.org/event/dj-gazanfer-3/
LOCATION:Dovercourt House\, 2nd Floor\, 805 Dovercourt Road\, Toronto\, Ontario\, Canada
CATEGORIES:Dance Events
END:VEVENT
BEGIN:VEVENT
DTSTART;TZID=America/Toronto:20170908T192000
DTEND;TZID=America/Toronto:20170908T221500
DTSTAMP:20260422T073740
CREATED:20170628T000428Z
LAST-MODIFIED:20170628T000428Z
UID:1241-1504898400-1504908900@themovecollective.org
SUMMARY:DJ MICHAEL H & THE COMMUNITY POTLUCK
DESCRIPTION:Join DJ Michael H for our weekly Move. \nStick around after for the monthly community potluck and share some snacks with our vibrant community.  9:30 to 10:15pm
URL:https://themovecollective.org/event/dj-michael-h-the-community-potluck/
LOCATION:Dovercourt House\, 2nd Floor\, 805 Dovercourt Road\, Toronto\, Ontario\, Canada
CATEGORIES:Community Potluck,Dance Events
END:VEVENT
BEGIN:VEVENT
DTSTART;TZID=America/Toronto:20170901T192000
DTEND;TZID=America/Toronto:20170901T213000
DTSTAMP:20260422T073740
CREATED:20170628T000217Z
LAST-MODIFIED:20170628T000217Z
UID:1239-1504293600-1504301400@themovecollective.org
SUMMARY:DJ ARIEL
DESCRIPTION:Join DJ Ariel for our weekly Move.
URL:https://themovecollective.org/event/dj-ariel-15/
LOCATION:Dovercourt House\, 2nd Floor\, 805 Dovercourt Road\, Toronto\, Ontario\, Canada
CATEGORIES:Dance Events
END:VEVENT
BEGIN:VEVENT
DTSTART;TZID=America/Toronto:20170825T192000
DTEND;TZID=America/Toronto:20170825T213000
DTSTAMP:20260422T073740
CREATED:20170628T000053Z
LAST-MODIFIED:20170628T000053Z
UID:1237-1503688800-1503696600@themovecollective.org
SUMMARY:DJ MICHAEL P
DESCRIPTION:Join DJ Michael P for our weekly Move.
URL:https://themovecollective.org/event/dj-michael-p-12/
LOCATION:Dovercourt House\, 2nd Floor\, 805 Dovercourt Road\, Toronto\, Ontario\, Canada
CATEGORIES:Dance Events
END:VEVENT
BEGIN:VEVENT
DTSTART;TZID=America/Toronto:20170818T192000
DTEND;TZID=America/Toronto:20170818T213000
DTSTAMP:20260422T073740
CREATED:20170627T235931Z
LAST-MODIFIED:20170627T235931Z
UID:1235-1503084000-1503091800@themovecollective.org
SUMMARY:DJ GREGORY
DESCRIPTION:Join DJ Gregory for our weekly Move.
URL:https://themovecollective.org/event/dj-gregory/
LOCATION:Dovercourt House\, 2nd Floor\, 805 Dovercourt Road\, Toronto\, Ontario\, Canada
CATEGORIES:Dance Events
END:VEVENT
BEGIN:VEVENT
DTSTART;TZID=America/Toronto:20170811T192000
DTEND;TZID=America/Toronto:20170811T221500
DTSTAMP:20260422T073740
CREATED:20170627T235737Z
LAST-MODIFIED:20170627T235738Z
UID:1233-1502479200-1502489700@themovecollective.org
SUMMARY:DJ ARIEL & THE COMMUNITY POTLUCK
DESCRIPTION:Join DJ Ariel for the weekly Move. \nStick around after for the monthly community potluck and share some snacks with our vibrant community.  9:30 to 10:15pm
URL:https://themovecollective.org/event/dj-ariel-the-community-potluck-2/
LOCATION:Dovercourt House\, 2nd Floor\, 805 Dovercourt Road\, Toronto\, Ontario\, Canada
CATEGORIES:Community Potluck,Dance Events
END:VEVENT
BEGIN:VEVENT
DTSTART;TZID=America/Toronto:20170804T192000
DTEND;TZID=America/Toronto:20170804T213000
DTSTAMP:20260422T073740
CREATED:20170627T235516Z
LAST-MODIFIED:20170627T235516Z
UID:1231-1501874400-1501882200@themovecollective.org
SUMMARY:DJ F-ERENC
DESCRIPTION:Join DJ F-erenc for our weekly Move.
URL:https://themovecollective.org/event/dj-f-erenc-3/
LOCATION:Dovercourt House\, 2nd Floor\, 805 Dovercourt Road\, Toronto\, Ontario\, Canada
CATEGORIES:Dance Events
END:VEVENT
END:VCALENDAR