BEGIN:VCALENDAR
VERSION:2.0
PRODID:-//The Move Collective - ECPv6.15.11//NONSGML v1.0//EN
CALSCALE:GREGORIAN
METHOD:PUBLISH
X-ORIGINAL-URL:https://themovecollective.org
X-WR-CALDESC:Events for The Move Collective
REFRESH-INTERVAL;VALUE=DURATION:PT1H
X-Robots-Tag:noindex
X-PUBLISHED-TTL:PT1H
BEGIN:VTIMEZONE
TZID:America/Toronto
BEGIN:DAYLIGHT
TZOFFSETFROM:-0500
TZOFFSETTO:-0400
TZNAME:EDT
DTSTART:20160313T070000
END:DAYLIGHT
BEGIN:STANDARD
TZOFFSETFROM:-0400
TZOFFSETTO:-0500
TZNAME:EST
DTSTART:20161106T060000
END:STANDARD
BEGIN:DAYLIGHT
TZOFFSETFROM:-0500
TZOFFSETTO:-0400
TZNAME:EDT
DTSTART:20170312T070000
END:DAYLIGHT
BEGIN:STANDARD
TZOFFSETFROM:-0400
TZOFFSETTO:-0500
TZNAME:EST
DTSTART:20171105T060000
END:STANDARD
BEGIN:DAYLIGHT
TZOFFSETFROM:-0500
TZOFFSETTO:-0400
TZNAME:EDT
DTSTART:20180311T070000
END:DAYLIGHT
BEGIN:STANDARD
TZOFFSETFROM:-0400
TZOFFSETTO:-0500
TZNAME:EST
DTSTART:20181104T060000
END:STANDARD
END:VTIMEZONE
BEGIN:VEVENT
DTSTART;TZID=America/Toronto:20170728T192000
DTEND;TZID=America/Toronto:20170728T213000
DTSTAMP:20260422T122607
CREATED:20170627T235343Z
LAST-MODIFIED:20170627T235343Z
UID:1229-1501269600-1501277400@themovecollective.org
SUMMARY:DJ TWYLA
DESCRIPTION:Join DJ Twyla for our weekly Move.
URL:https://themovecollective.org/event/dj-twyla-5/
LOCATION:Dovercourt House\, 2nd Floor\, 805 Dovercourt Road\, Toronto\, Ontario\, Canada
CATEGORIES:Dance Events
END:VEVENT
BEGIN:VEVENT
DTSTART;TZID=America/Toronto:20170721T192000
DTEND;TZID=America/Toronto:20170721T213000
DTSTAMP:20260422T122607
CREATED:20170627T235149Z
LAST-MODIFIED:20170627T235149Z
UID:1227-1500664800-1500672600@themovecollective.org
SUMMARY:DJ MICHAEL P
DESCRIPTION:Join DJ Michael P for our weekly Move.
URL:https://themovecollective.org/event/dj-michael-p-11/
LOCATION:Dovercourt House\, 2nd Floor\, 805 Dovercourt Road\, Toronto\, Ontario\, Canada
CATEGORIES:Dance Events
END:VEVENT
BEGIN:VEVENT
DTSTART;TZID=America/Toronto:20170714T192000
DTEND;TZID=America/Toronto:20170714T221500
DTSTAMP:20260422T122607
CREATED:20170627T234910Z
LAST-MODIFIED:20170627T234910Z
UID:1225-1500060000-1500070500@themovecollective.org
SUMMARY:DJ TWYLA & THE COMMUNITY POTLUCK
DESCRIPTION:Join DJ Twyla for out weekly Move. \nStick around after for the community potluck and share some snacks with our vibrant community.  9:30 to 10:15pm
URL:https://themovecollective.org/event/dj-twyla-the-community-potluck/
LOCATION:Dovercourt House\, 2nd Floor\, 805 Dovercourt Road\, Toronto\, Ontario\, Canada
CATEGORIES:Community Potluck,Dance Events
END:VEVENT
BEGIN:VEVENT
DTSTART;TZID=America/Toronto:20170707T192000
DTEND;TZID=America/Toronto:20170707T213000
DTSTAMP:20260422T122607
CREATED:20170627T234410Z
LAST-MODIFIED:20170627T234509Z
UID:1223-1499455200-1499463000@themovecollective.org
SUMMARY:DJ ARIEL
DESCRIPTION:Join DJ Ariel for our weekly Move.
URL:https://themovecollective.org/event/dj-ariel-14/
LOCATION:Dovercourt House\, 2nd Floor\, 805 Dovercourt Road\, Toronto\, Ontario\, Canada
CATEGORIES:Dance Events
END:VEVENT
BEGIN:VEVENT
DTSTART;TZID=America/Toronto:20170630T192000
DTEND;TZID=America/Toronto:20170630T213000
DTSTAMP:20260422T122607
CREATED:20170329T225458Z
LAST-MODIFIED:20170329T225458Z
UID:1213-1498850400-1498858200@themovecollective.org
SUMMARY:DJ Michael H
DESCRIPTION:Join DJ Michael H for our weekly Move
URL:https://themovecollective.org/event/dj-michael-h/
LOCATION:Dovercourt House\, 2nd Floor\, 805 Dovercourt Road\, Toronto\, Ontario\, Canada
CATEGORIES:Dance Events
END:VEVENT
BEGIN:VEVENT
DTSTART;TZID=America/Toronto:20170623T192000
DTEND;TZID=America/Toronto:20170623T213000
DTSTAMP:20260422T122607
CREATED:20170329T225401Z
LAST-MODIFIED:20170329T225401Z
UID:1211-1498245600-1498253400@themovecollective.org
SUMMARY:DJ Michael P
DESCRIPTION:Join DJ Michael P for our weekly Move
URL:https://themovecollective.org/event/dj-michael-p-10/
LOCATION:Dovercourt House\, 2nd Floor\, 805 Dovercourt Road\, Toronto\, Ontario\, Canada
CATEGORIES:Dance Events
END:VEVENT
BEGIN:VEVENT
DTSTART;TZID=America/Toronto:20170616T192000
DTEND;TZID=America/Toronto:20170616T213000
DTSTAMP:20260422T122607
CREATED:20170329T225305Z
LAST-MODIFIED:20170329T225305Z
UID:1209-1497640800-1497648600@themovecollective.org
SUMMARY:DJ Gazanfer
DESCRIPTION:Join DJ Gazanfer for our weekly Move
URL:https://themovecollective.org/event/dj-gazanfer-2/
LOCATION:Dovercourt House\, 2nd Floor\, 805 Dovercourt Road\, Toronto\, Ontario\, Canada
CATEGORIES:Dance Events
END:VEVENT
BEGIN:VEVENT
DTSTART;TZID=America/Toronto:20170609T192000
DTEND;TZID=America/Toronto:20170609T221500
DTSTAMP:20260422T122607
CREATED:20170329T225040Z
LAST-MODIFIED:20170329T225040Z
UID:1207-1497036000-1497046500@themovecollective.org
SUMMARY:DJ Gregory & The Community Potluck
DESCRIPTION:Join DJ Gregory for our weekly Move. \nStick around after for the community potluck and share some snacks with our vibrant community.  9:30 to 10:15pm
URL:https://themovecollective.org/event/dj-gregory-the-community-potluck/
LOCATION:Dovercourt House\, 2nd Floor\, 805 Dovercourt Road\, Toronto\, Ontario\, Canada
CATEGORIES:Community Potluck,Dance Events
END:VEVENT
BEGIN:VEVENT
DTSTART;TZID=America/Toronto:20170602T192000
DTEND;TZID=America/Toronto:20170602T213000
DTSTAMP:20260422T122607
CREATED:20170329T224753Z
LAST-MODIFIED:20170425T124754Z
UID:1205-1496431200-1496439000@themovecollective.org
SUMMARY:DJ ERICA
DESCRIPTION:Join DJ Erica for her farewell set at the Move
URL:https://themovecollective.org/event/dj-twyla-4/
LOCATION:Dovercourt House\, 2nd Floor\, 805 Dovercourt Road\, Toronto\, Ontario\, Canada
CATEGORIES:Dance Events
END:VEVENT
BEGIN:VEVENT
DTSTART;TZID=America/Toronto:20170526T192000
DTEND;TZID=America/Toronto:20170526T213000
DTSTAMP:20260422T122607
CREATED:20170329T224138Z
LAST-MODIFIED:20170425T124856Z
UID:1203-1495826400-1495834200@themovecollective.org
SUMMARY:DJ VALERIE
DESCRIPTION:Join DJ Valerie for our weekly Move
URL:https://themovecollective.org/event/dj-erica/
LOCATION:Dovercourt House\, 2nd Floor\, 805 Dovercourt Road\, Toronto\, Ontario\, Canada
CATEGORIES:Dance Events
END:VEVENT
BEGIN:VEVENT
DTSTART;TZID=America/Toronto:20170519T192000
DTEND;TZID=America/Toronto:20170519T213000
DTSTAMP:20260422T122607
CREATED:20170329T224016Z
LAST-MODIFIED:20170425T125101Z
UID:1201-1495221600-1495229400@themovecollective.org
SUMMARY:DJ TWYLA
DESCRIPTION:Join DJ Twyla for our weekly Move.
URL:https://themovecollective.org/event/dj-ariel-13/
LOCATION:Dovercourt House\, 2nd Floor\, 805 Dovercourt Road\, Toronto\, Ontario\, Canada
CATEGORIES:Dance Events
END:VEVENT
BEGIN:VEVENT
DTSTART;TZID=America/Toronto:20170512T192000
DTEND;TZID=America/Toronto:20170512T221500
DTSTAMP:20260422T122607
CREATED:20170329T223855Z
LAST-MODIFIED:20170329T223855Z
UID:1199-1494616800-1494627300@themovecollective.org
SUMMARY:DJ F-erenc & The Community Potluck
DESCRIPTION:Join DJ F-erenc for our weekly Move. \nStick around after for the community potluck and share some snacks with our vibrant community  9:30-10:15pm
URL:https://themovecollective.org/event/dj-f-erenc-the-community-potluck/
LOCATION:Dovercourt House\, 2nd Floor\, 805 Dovercourt Road\, Toronto\, Ontario\, Canada
CATEGORIES:Community Potluck,Dance Events
END:VEVENT
BEGIN:VEVENT
DTSTART;TZID=America/Toronto:20170505T192000
DTEND;TZID=America/Toronto:20170505T213000
DTSTAMP:20260422T122607
CREATED:20170329T223549Z
LAST-MODIFIED:20170329T224302Z
UID:1197-1494012000-1494019800@themovecollective.org
SUMMARY:DJ Ariel
DESCRIPTION:Join DJ Ariel for our weekly Move.
URL:https://themovecollective.org/event/dj-ariel-12/
LOCATION:Dovercourt House\, 2nd Floor\, 805 Dovercourt Road\, Toronto\, Ontario\, Canada
CATEGORIES:Dance Events
END:VEVENT
BEGIN:VEVENT
DTSTART;TZID=America/Toronto:20170428T192000
DTEND;TZID=America/Toronto:20170428T213000
DTSTAMP:20260422T122607
CREATED:20170329T223358Z
LAST-MODIFIED:20170329T224436Z
UID:1195-1493407200-1493415000@themovecollective.org
SUMMARY:DJ Valerie
DESCRIPTION:Join DJ Valerie for our weekly Move.
URL:https://themovecollective.org/event/dj-valerie-9/
LOCATION:Dovercourt House\, 2nd Floor\, 805 Dovercourt Road\, Toronto\, Ontario\, Canada
CATEGORIES:Dance Events
END:VEVENT
BEGIN:VEVENT
DTSTART;TZID=America/Toronto:20170421T192000
DTEND;TZID=America/Toronto:20170421T213000
DTSTAMP:20260422T122607
CREATED:20170329T223245Z
LAST-MODIFIED:20170329T224510Z
UID:1193-1492802400-1492810200@themovecollective.org
SUMMARY:DJ Michael P
DESCRIPTION:Join DJ Michael P for our weekly Move.
URL:https://themovecollective.org/event/dj-michael-p-9/
LOCATION:Dovercourt House\, 2nd Floor\, 805 Dovercourt Road\, Toronto\, Ontario\, Canada
CATEGORIES:Dance Events
END:VEVENT
BEGIN:VEVENT
DTSTART;TZID=America/Toronto:20170414T192000
DTEND;TZID=America/Toronto:20170414T221500
DTSTAMP:20260422T122607
CREATED:20170329T222845Z
LAST-MODIFIED:20170329T222845Z
UID:1189-1492197600-1492208100@themovecollective.org
SUMMARY:DJ Ariel & The Community Potluck
DESCRIPTION:Join DJ Ariel for our weekly Move. \nStick around after for the community potluck and share some snacks with our vibrant community 9:30 to 10:15.
URL:https://themovecollective.org/event/dj-ariel-the-community-potluck/
LOCATION:Dovercourt House\, 2nd Floor\, 805 Dovercourt Road\, Toronto\, Ontario\, Canada
CATEGORIES:Community Potluck,Dance Events
END:VEVENT
BEGIN:VEVENT
DTSTART;TZID=America/Toronto:20170407T192000
DTEND;TZID=America/Toronto:20170407T213000
DTSTAMP:20260422T122607
CREATED:20170329T222344Z
LAST-MODIFIED:20180625T153342Z
UID:1187-1491592800-1491600600@themovecollective.org
SUMMARY:DJ Valerie
DESCRIPTION:Join DJ Valerie for our weekly Move.
URL:https://themovecollective.org/event/dj-valerie-8/
LOCATION:Dovercourt House\, 2nd Floor\, 805 Dovercourt Road\, Toronto\, Ontario\, Canada
CATEGORIES:Dance Events
END:VEVENT
BEGIN:VEVENT
DTSTART;TZID=America/Toronto:20170331T192000
DTEND;TZID=America/Toronto:20170331T213000
DTSTAMP:20260422T122607
CREATED:20170107T225139Z
LAST-MODIFIED:20170107T225139Z
UID:1160-1490988000-1490995800@themovecollective.org
SUMMARY:JOIN DJ GREGORY
DESCRIPTION:Join DJ Gregory for our weekly Move.
URL:https://themovecollective.org/event/join-dj-gregory/
LOCATION:Dovercourt House\, 2nd Floor\, 805 Dovercourt Road\, Toronto\, Ontario\, Canada
CATEGORIES:Dance Events
END:VEVENT
BEGIN:VEVENT
DTSTART;TZID=America/Toronto:20170324T192000
DTEND;TZID=America/Toronto:20170324T213000
DTSTAMP:20260422T122607
CREATED:20170107T224919Z
LAST-MODIFIED:20170107T224919Z
UID:1156-1490383200-1490391000@themovecollective.org
SUMMARY:DJ GAZANFER
DESCRIPTION:Join DJ Gazanfer for our weekly Move.
URL:https://themovecollective.org/event/dj-gazanfer/
LOCATION:Dovercourt House\, 2nd Floor\, 805 Dovercourt Road\, Toronto\, Ontario\, Canada
CATEGORIES:Dance Events
END:VEVENT
BEGIN:VEVENT
DTSTART;TZID=America/Toronto:20170317T192000
DTEND;TZID=America/Toronto:20170317T213000
DTSTAMP:20260422T122607
CREATED:20170107T224725Z
LAST-MODIFIED:20170107T224725Z
UID:1154-1489778400-1489786200@themovecollective.org
SUMMARY:DJ MICHAEL P
DESCRIPTION:Join DJ Michael P for our weekly Move.
URL:https://themovecollective.org/event/dj-michael-p-8/
LOCATION:Dovercourt House\, 2nd Floor\, 805 Dovercourt Road\, Toronto\, Ontario\, Canada
CATEGORIES:Dance Events
END:VEVENT
BEGIN:VEVENT
DTSTART;TZID=America/Toronto:20170310T192000
DTEND;TZID=America/Toronto:20170310T221500
DTSTAMP:20260422T122607
CREATED:20170107T224606Z
LAST-MODIFIED:20170107T224606Z
UID:1152-1489173600-1489184100@themovecollective.org
SUMMARY:DJ VALERIE & COMMUNITY POTLUCK
DESCRIPTION:Join DJ VALERIE for our weekly Move. \nStick around after for the community potluck and share some snacks with our vibrant community. \n9:30-10:15pm
URL:https://themovecollective.org/event/dj-valerie-community-potluck-2/
LOCATION:Dovercourt House\, 2nd Floor\, 805 Dovercourt Road\, Toronto\, Ontario\, Canada
CATEGORIES:Community Potluck,Dance Events
END:VEVENT
BEGIN:VEVENT
DTSTART;TZID=America/Toronto:20170303T192000
DTEND;TZID=America/Toronto:20170303T213000
DTSTAMP:20260422T122607
CREATED:20170107T224305Z
LAST-MODIFIED:20170107T224305Z
UID:1149-1488568800-1488576600@themovecollective.org
SUMMARY:DJ F-ERENC
DESCRIPTION:Join DJ F-erenc for our weekly Move.
URL:https://themovecollective.org/event/dj-f-erenc-2/
LOCATION:Dovercourt House\, 2nd Floor\, 805 Dovercourt Road\, Toronto\, Ontario\, Canada
CATEGORIES:Dance Events
END:VEVENT
BEGIN:VEVENT
DTSTART;TZID=America/Toronto:20170224T192000
DTEND;TZID=America/Toronto:20170224T213000
DTSTAMP:20260422T122607
CREATED:20170107T224132Z
LAST-MODIFIED:20170107T224132Z
UID:1147-1487964000-1487971800@themovecollective.org
SUMMARY:DJ VALERIE
DESCRIPTION:Join DJ VALERIE for our weekly Move.
URL:https://themovecollective.org/event/dj-valerie-7/
LOCATION:Dovercourt House\, 2nd Floor\, 805 Dovercourt Road\, Toronto\, Ontario\, Canada
CATEGORIES:Dance Events
END:VEVENT
BEGIN:VEVENT
DTSTART;TZID=America/Toronto:20170217T192000
DTEND;TZID=America/Toronto:20170217T213000
DTSTAMP:20260422T122607
CREATED:20170107T224000Z
LAST-MODIFIED:20170107T224000Z
UID:1145-1487359200-1487367000@themovecollective.org
SUMMARY:DJ ARIEL
DESCRIPTION:Join DJ ARIEL for our weekly Move.
URL:https://themovecollective.org/event/dj-ariel-11/
LOCATION:Dovercourt House\, 2nd Floor\, 805 Dovercourt Road\, Toronto\, Ontario\, Canada
CATEGORIES:Dance Events
END:VEVENT
BEGIN:VEVENT
DTSTART;TZID=America/Toronto:20170210T192000
DTEND;TZID=America/Toronto:20170210T221500
DTSTAMP:20260422T122607
CREATED:20170107T223844Z
LAST-MODIFIED:20170107T223844Z
UID:1143-1486754400-1486764900@themovecollective.org
SUMMARY:DJ MICHAEL H & COMMUNITY POTLUCK
DESCRIPTION:Join DJ MICHAEL H for our weekly Move. \nStick around after for the community potluck and share some snacks with our vibrant community. \n9:30-10:15pm
URL:https://themovecollective.org/event/dj-michael-h-community-potluck/
LOCATION:Dovercourt House\, 2nd Floor\, 805 Dovercourt Road\, Toronto\, Ontario\, Canada
CATEGORIES:Community Potluck,Dance Events
END:VEVENT
BEGIN:VEVENT
DTSTART;TZID=America/Toronto:20170203T192000
DTEND;TZID=America/Toronto:20170203T213000
DTSTAMP:20260422T122607
CREATED:20170107T223652Z
LAST-MODIFIED:20170107T223652Z
UID:1141-1486149600-1486157400@themovecollective.org
SUMMARY:DJ VALERIE
DESCRIPTION:Join DJ Valerie for our weekly Move.
URL:https://themovecollective.org/event/dj-valerie-6/
LOCATION:Dovercourt House\, 2nd Floor\, 805 Dovercourt Road\, Toronto\, Ontario\, Canada
CATEGORIES:Dance Events
END:VEVENT
BEGIN:VEVENT
DTSTART;TZID=America/Toronto:20170127T192000
DTEND;TZID=America/Toronto:20170127T213000
DTSTAMP:20260422T122607
CREATED:20170107T223502Z
LAST-MODIFIED:20170107T223502Z
UID:1139-1485544800-1485552600@themovecollective.org
SUMMARY:DJ Michael P
DESCRIPTION:Join DJ Michael P for our weekly Move.
URL:https://themovecollective.org/event/dj-michael-p-7/
LOCATION:Dovercourt House\, 2nd Floor\, 805 Dovercourt Road\, Toronto\, Ontario\, Canada
CATEGORIES:Dance Events
END:VEVENT
BEGIN:VEVENT
DTSTART;TZID=America/Toronto:20170120T192000
DTEND;TZID=America/Toronto:20170120T213000
DTSTAMP:20260422T122607
CREATED:20170107T223329Z
LAST-MODIFIED:20170107T223329Z
UID:1137-1484940000-1484947800@themovecollective.org
SUMMARY:DJ Michael P
DESCRIPTION:Join DJ Michael P for our weekly Move.
URL:https://themovecollective.org/event/dj-michael-p-6/
LOCATION:Dovercourt House\, 2nd Floor\, 805 Dovercourt Road\, Toronto\, Ontario\, Canada
CATEGORIES:Dance Events
END:VEVENT
BEGIN:VEVENT
DTSTART;TZID=America/Toronto:20170113T192000
DTEND;TZID=America/Toronto:20170113T221500
DTSTAMP:20260422T122607
CREATED:20161230T230717Z
LAST-MODIFIED:20170107T213856Z
UID:1132-1484335200-1484345700@themovecollective.org
SUMMARY:DJ ARIEL & COMMUNITY POTLUCK
DESCRIPTION:Join DJ ARIEL for our weekly Move. \nStick around after for the community potluck and share some snacks with our vibrant community. \n9:30-10:15pm \n 
URL:https://themovecollective.org/event/dj-ariel-community-potluck-2/
LOCATION:Dovercourt House\, 2nd Floor\, 805 Dovercourt Road\, Toronto\, Ontario\, Canada
CATEGORIES:Community Potluck,Dance Events
END:VEVENT
BEGIN:VEVENT
DTSTART;TZID=America/Toronto:20170106T192000
DTEND;TZID=America/Toronto:20170106T213000
DTSTAMP:20260422T122607
CREATED:20161230T230128Z
LAST-MODIFIED:20161230T230128Z
UID:1130-1483730400-1483738200@themovecollective.org
SUMMARY:DJ ARIEL
DESCRIPTION:Join DJ ARIEL for our weekly Move.
URL:https://themovecollective.org/event/dj-ariel-10/
LOCATION:Dovercourt House\, 2nd Floor\, 805 Dovercourt Road\, Toronto\, Ontario\, Canada
CATEGORIES:Dance Events
END:VEVENT
END:VCALENDAR